BEGIN:VCALENDAR
VERSION:2.0
PRODID:-//Bordeaux Neurocampus - ECPv4.9.10//NONSGML v1.0//EN
CALSCALE:GREGORIAN
METHOD:PUBLISH
X-WR-CALNAME:Bordeaux Neurocampus
X-ORIGINAL-URL:https://www.bordeaux-neurocampus.fr
X-WR-CALDESC:Évènements pour Bordeaux Neurocampus
BEGIN:VTIMEZONE
TZID:Europe/Paris
BEGIN:DAYLIGHT
TZOFFSETFROM:+0100
TZOFFSETTO:+0200
TZNAME:CEST
DTSTART:20220327T010000
END:DAYLIGHT
BEGIN:STANDARD
TZOFFSETFROM:+0200
TZOFFSETTO:+0100
TZNAME:CET
DTSTART:20221030T010000
END:STANDARD
END:VTIMEZONE
BEGIN:VEVENT
DTSTART;TZID=Europe/Paris:20221205T170000
DTEND;TZID=Europe/Paris:20221205T170000
DTSTAMP:20260420T055743
CREATED:20221130T104103Z
LAST-MODIFIED:20221202T083940Z
UID:153356-1670259600-1670259600@www.bordeaux-neurocampus.fr
SUMMARY:Conférence : Les agents pathogènes contrôlent le monde
DESCRIPTION:Lieu : Centre Broca – Auditorium \nPrésentée par :\n– Karine Massé\, Maître de conférence en biologie cellulaire et de développement\, chercheuse à l’IMN\n– Fabienne Rayne\, Maître de conférence en virologie\, chercheuse au Laboratoire de Microbiologie Fondamentale et Pathogénicité \nCette conférence portera sur les agents infectieux\, ces petites choses mystérieuses qui ont\, parfois\, le potentiel de vous manipuler. Si vous souhaitez en apprendre plus sur les parasites et sur les virus ayant ce potentiel\, n’hésitez pas ! La toxoplasmose (transmissible par le chat) sera le principal sujet abordé\, ainsi que sa potentielle relation avec la maladie d’Alzheimer. Vos chats peuvent-ils vous faire perdre la mémoire ? \nPartager l’événement Facebook : https://fb.me/e/3cVSHoQ6U \n\nOrganisée par l’association T4 scholar \n
URL:https://www.bordeaux-neurocampus.fr/event/conference-agents-pathogenes/
CATEGORIES:A la une,Evénements pour tous,Pour les scientifiques
END:VEVENT
END:VCALENDAR