BEGIN:VCALENDAR
VERSION:2.0
PRODID:-//Bordeaux Neurocampus - ECPv4.9.10//NONSGML v1.0//EN
CALSCALE:GREGORIAN
METHOD:PUBLISH
X-WR-CALNAME:Bordeaux Neurocampus
X-ORIGINAL-URL:https://www.bordeaux-neurocampus.fr
X-WR-CALDESC:Évènements pour Bordeaux Neurocampus
BEGIN:VTIMEZONE
TZID:Europe/Paris
BEGIN:DAYLIGHT
TZOFFSETFROM:+0100
TZOFFSETTO:+0200
TZNAME:CEST
DTSTART:20260329T010000
END:DAYLIGHT
BEGIN:STANDARD
TZOFFSETFROM:+0200
TZOFFSETTO:+0100
TZNAME:CET
DTSTART:20261025T010000
END:STANDARD
END:VTIMEZONE
BEGIN:VEVENT
DTSTART;TZID=Europe/Paris:20260505T090000
DTEND;TZID=Europe/Paris:20260505T110000
DTSTAMP:20260424T195506
CREATED:20260424T162836Z
LAST-MODIFIED:20260424T163539Z
UID:197831-1777971600-1777978800@www.bordeaux-neurocampus.fr
SUMMARY:Computational Neuroscience Seminar - Part 1
DESCRIPTION:Venue: Institut Magendie\, conference room. \nPresentations by neurocomputation researchers applying for a team leader position at Magendie. \n\n9h-10h – Caroline HAIMERL\nChampalimaud Centre for Unknown\, Lisbon\, Portugal\nFrom action to abstraction: A unifying framework for perception\, learning\, and movement across spatiotemporal scales \n10h-11h – Ari BENJAMIN\nCold Spring Harbor Laboratory\, New York\, USA\nIlluminating how learned behaviors transfer across neuromodulatory states \n
URL:https://www.bordeaux-neurocampus.fr/event/computational-neuroscience-seminar-part-1/
CATEGORIES:A la une
END:VEVENT
END:VCALENDAR