BEGIN:VCALENDAR
VERSION:2.0
PRODID:-//Bordeaux Neurocampus - ECPv4.9.10//NONSGML v1.0//EN
CALSCALE:GREGORIAN
METHOD:PUBLISH
X-WR-CALNAME:Bordeaux Neurocampus
X-ORIGINAL-URL:https://www.bordeaux-neurocampus.fr
X-WR-CALDESC:Évènements pour Bordeaux Neurocampus
BEGIN:VTIMEZONE
TZID:Europe/Paris
BEGIN:DAYLIGHT
TZOFFSETFROM:+0100
TZOFFSETTO:+0200
TZNAME:CEST
DTSTART:20210328T010000
END:DAYLIGHT
BEGIN:STANDARD
TZOFFSETFROM:+0200
TZOFFSETTO:+0100
TZNAME:CET
DTSTART:20211031T010000
END:STANDARD
END:VTIMEZONE
BEGIN:VEVENT
DTSTART;TZID=Europe/Paris:20211005T110000
DTEND;TZID=Europe/Paris:20211005T123000
DTSTAMP:20260421T173851
CREATED:20210906T174405Z
LAST-MODIFIED:20210909T125029Z
UID:137918-1633431600-1633437000@www.bordeaux-neurocampus.fr
SUMMARY:Cajal lecture - Gwenaelle Catheline
DESCRIPTION:Venue: CGFB \n\nGwenaelle Catheline\nINCIA\, Bordeaux Neurocampus\, France \nInter-individual variability in brain changes during aging : multimodal MRI-based studies in population based-cohorts \n
URL:https://www.bordeaux-neurocampus.fr/event/cajal-lecture-gwenaelle-catheline/
CATEGORIES:Cajal Lectures,Pour les scientifiques
END:VEVENT
END:VCALENDAR