BEGIN:VCALENDAR
VERSION:2.0
PRODID:-//Bordeaux Neurocampus - ECPv4.9.10//NONSGML v1.0//EN
CALSCALE:GREGORIAN
METHOD:PUBLISH
X-WR-CALNAME:Bordeaux Neurocampus
X-ORIGINAL-URL:https://www.bordeaux-neurocampus.fr
X-WR-CALDESC:Évènements pour Bordeaux Neurocampus
BEGIN:VTIMEZONE
TZID:Europe/Paris
BEGIN:DAYLIGHT
TZOFFSETFROM:+0100
TZOFFSETTO:+0200
TZNAME:CEST
DTSTART:20230326T010000
END:DAYLIGHT
BEGIN:STANDARD
TZOFFSETFROM:+0200
TZOFFSETTO:+0100
TZNAME:CET
DTSTART:20231029T010000
END:STANDARD
END:VTIMEZONE
BEGIN:VEVENT
DTSTART;TZID=Europe/Paris:20230319T153000
DTEND;TZID=Europe/Paris:20230319T173000
DTSTAMP:20260422T145102
CREATED:20230213T144107Z
LAST-MODIFIED:20230214T142212Z
UID:155526-1679239800-1679247000@www.bordeaux-neurocampus.fr
SUMMARY:Bureau des enquêtes
DESCRIPTION:Lieu : Cap Sciences \n\nDeux personnels de recherche vous font deviner leur métier. \nAve (on ne vous en dit pas plus !) :\n– une doctorante de l’INCIA\n– un chercheur CNRS de l’IINS. \n\nDans le cadre de la Semaine du Cerveau.  \n
URL:https://www.bordeaux-neurocampus.fr/event/bureau-des-enquetes/
CATEGORIES:Evénements pour tous,Semaine du cerveau 2023
END:VEVENT
END:VCALENDAR