BEGIN:VCALENDAR
VERSION:2.0
PRODID:-//Bordeaux Neurocampus - ECPv4.9.10//NONSGML v1.0//EN
CALSCALE:GREGORIAN
METHOD:PUBLISH
X-WR-CALNAME:Bordeaux Neurocampus
X-ORIGINAL-URL:https://www.bordeaux-neurocampus.fr/en/
X-WR-CALDESC:Events for Bordeaux Neurocampus
BEGIN:VTIMEZONE
TZID:Europe/Paris
BEGIN:DAYLIGHT
TZOFFSETFROM:+0100
TZOFFSETTO:+0200
TZNAME:CEST
DTSTART:20260329T010000
END:DAYLIGHT
BEGIN:STANDARD
TZOFFSETFROM:+0200
TZOFFSETTO:+0100
TZNAME:CET
DTSTART:20261025T010000
END:STANDARD
END:VTIMEZONE
BEGIN:VEVENT
DTSTART;TZID=Europe/Paris:20260226T090000
DTEND;TZID=Europe/Paris:20260226T103000
DTSTAMP:20260420T101224
CREATED:20260123T132001Z
LAST-MODIFIED:20260212T151235Z
UID:191763-1772096400-1772101800@www.bordeaux-neurocampus.fr
SUMMARY:Présentation générale de l'outil GRIST
DESCRIPTION:Lieu : Centre Broca (auditorium) \nOuvert à tout le personnel UB \n\nPrésentation générale de l’outil GRIST \nPar Antoine Blanchard\, université de Bordeaux. \nCoordonné par Christophe Halgand (IINS) \nA propos de GRIST\nA mi-chemin entre un tableur collaboratif et un outil de gestion de bases de données\, Grist permet de transformer de simples tableaux en véritables applications de gestion\, adaptées à vos besoins. Plus souple qu’un tableur classique\, il permet de relier vos données\, de collaborer à plusieurs en temps réel et de créer des vues personnalisées avec votre équipe sans avoir besoin de coder. Vous pouvez ainsi organiser\, analyser et automatiser vos données de manière claire et efficace. \n\nVoici quelques exemples de fonctionnalités dont vous pourrez tirer parti dans Grist : \n\nTableur collaboratif : éditez à plusieurs\, en temps réel\, sans conflit de versions.\nFormulaires publics : collectez et centralisez des données externes aisément.\nDonnées relationnelles : synchronisez automatiquement les données entre plusieurs tableaux.\nDroits avancés : contrôlez l’accès jusqu’à la cellule\, pour une confidentialité optimale.\nGraphiques intégrés : créez des visualisations interactives en quelques clics.\nFormules avancées : réalisez des calculs sur mesure avec la puissance de Python.\nAssistant IA : générez et optimisez vos formules grâce à l’intelligence artificielle.\nExtensions sur mesure : développez des widgets et des scripts pour vos besoins spécifiques\n…et bien plus encore !\n\n\n \n
URL:https://www.bordeaux-neurocampus.fr/en/event/presentation-grist/
CATEGORIES:For scientists,home-event,Various
END:VEVENT
END:VCALENDAR