BEGIN:VCALENDAR
VERSION:2.0
PRODID:-//Bordeaux Neurocampus - ECPv4.9.10//NONSGML v1.0//EN
CALSCALE:GREGORIAN
METHOD:PUBLISH
X-WR-CALNAME:Bordeaux Neurocampus
X-ORIGINAL-URL:https://www.bordeaux-neurocampus.fr/en/
X-WR-CALDESC:Events for Bordeaux Neurocampus
BEGIN:VTIMEZONE
TZID:Europe/Paris
BEGIN:DAYLIGHT
TZOFFSETFROM:+0100
TZOFFSETTO:+0200
TZNAME:CEST
DTSTART:20220327T010000
END:DAYLIGHT
BEGIN:STANDARD
TZOFFSETFROM:+0200
TZOFFSETTO:+0100
TZNAME:CET
DTSTART:20221030T010000
END:STANDARD
END:VTIMEZONE
BEGIN:VEVENT
DTSTART;TZID=Europe/Paris:20220125T173000
DTEND;TZID=Europe/Paris:20220125T183000
DTSTAMP:20260425T191017
CREATED:20220119T174051Z
LAST-MODIFIED:20220119T174051Z
UID:143499-1643131800-1643135400@www.bordeaux-neurocampus.fr
SUMMARY:Reproducibilitea session
DESCRIPTION:In-person – Salle SUD at CGFB or zoom \n\nOpen science challenges\, benefits and tips in early career and beyond by Allen &  Mehler \nThe session will be hosted by Eduarda Centeno & Fjola Hyseni\, the BordeauxTea hosts. \n  \n
URL:https://www.bordeaux-neurocampus.fr/en/event/reproducibilitea-session-8/
CATEGORIES:For scientists,home-event,Impromptu seminar,Various
END:VEVENT
END:VCALENDAR