BEGIN:VCALENDAR
VERSION:2.0
PRODID:-//Bordeaux Neurocampus - ECPv4.9.10//NONSGML v1.0//EN
CALSCALE:GREGORIAN
METHOD:PUBLISH
X-WR-CALNAME:Bordeaux Neurocampus
X-ORIGINAL-URL:https://www.bordeaux-neurocampus.fr/en/
X-WR-CALDESC:Events for Bordeaux Neurocampus
BEGIN:VTIMEZONE
TZID:Europe/Paris
BEGIN:DAYLIGHT
TZOFFSETFROM:+0100
TZOFFSETTO:+0200
TZNAME:CEST
DTSTART:20210328T010000
END:DAYLIGHT
BEGIN:STANDARD
TZOFFSETFROM:+0200
TZOFFSETTO:+0100
TZNAME:CET
DTSTART:20211031T010000
END:STANDARD
END:VTIMEZONE
BEGIN:VEVENT
DTSTART;VALUE=DATE:20210920
DTEND;VALUE=DATE:20211010
DTSTAMP:20260423T164342
CREATED:20191021T090540Z
LAST-MODIFIED:20211007T174709Z
UID:112212-1632096000-1633823999@www.bordeaux-neurocampus.fr
SUMMARY:Cajal course: Ageing cognition
DESCRIPTION:The lectures during the Cajal course are open to every member of Bordeaux Neurocampus. \nVenue: CGFB \n\nMonday 20 September – 14:00-15:30\nLuisa Lopes (Neurobiology of Ageing & Disease – iMM Lisboa\, Portugal) \nTuesday 21 September – 9:00-10:30\nCheryl Grady (The Rotman Research Institute\, Baycrest & University Toronto\, Canada) \nTuesday 21 September – 11:00-12:30\nNora Abrous (Neurocentre Magendie\, Bordeaux Neurocampus\, France) \nWednesday 22 September – 9:00-10:30\nCarol Barnes (University of Arizona\, USA) \nWednesday 22 September – 11:00-12:30 / remotely\nMaria Llorens-Martins (Universidad Autonoma Madrid\, Spain) \nFriday 24 September – 9:00-10:30\nLaure Rondi-Reig (Sorbonne Université\, Paris\, France) \nFriday 24 September – 11:00-12:30\nAline Marighetto (Neurocentre Magendie\, Bordeaux Neurocampus\, France) \nMonday 27 September – 17:00-18:30\nYaakov Stern (Columbia University\, USA) \nThursday 30 September – 11:00-12:30\nAdam Antebi (Max Planck Institute for Biology of Ageing\, Germany)  \nMonday 4 October – 9:00-10:30\nLuc Buée (University of Lille\, France) \nMonday 4 October- 11:00-12:30\nHélène Amieva (Bordeaux population Health Center\, France) \nTuesday 5 October – 9:00-10:30\nLars Nyberg (Umeå University\, Sweden) \nTuesday 5 October – 11:00-12:30\nGwenaelle Catheline (INCIA\, Bordeaux Neurocampus\, France) \n\nAbout the Cajal course\nVenue: Bordeaux School of Neuroscience \nThe normal aging process is associated with reduced performance on cognitive tasks that require one to quickly process or transform information to make a decision\, including measures of speed of processing\, executive cognitive function\, working and relational memories. Structural and functional alterations in the brain correlate with these age-related cognitive changes\, such as loss of synapses\, and dysfunction of neuronal networks. It is crucial to develop new approaches that consider the whole neuroanatomical\, endocrine\, immunological\, vascular and cellular changes impacting on cognition. \nThis 3-week course will cover the fundamentals of cognitive aging -including inter-individual differences\, cognitive and brain reserve and risk factors- and highlight the newest functional imaging methods to study human brain function. The Faculty will share the state-of-the-art molecular\, optical\, computational\, electrophysiological\, behavioural and epidemiological approaches available for studying the aging brain in diverse model systems. The Students will learn the potential and limitations of these methods\, through practical experience in a combination of lectures addressing aging in both humans and animal models and hands-on-projects. They will acquire sufficient practical experience to model\, design and interpret experiments and brainstorm on novel technologies and hypotheses to explore the aging of the brain using more integrative and creative approaches. \nCourse director\nLuísa Lopes\nNeurobiology of Ageing & Disease\niMM Lisboa\nPortugal \nCo-directors\nCheryl Grady\nThe Rotman Research Institute\, Baycrest\,\nCanada \nNora Abrous\nNeurocentre Magendie INSERM U 1215\,\nUniversity of Bordeaux\nFrance \nKeynote speakers\nHélène Amieva (Bordeaux Population Health\, France)\nAdam Antebi (Max Planck Institute for Biology of Ageing\, Germany)\nCarol Barnes (University of Arizona\, USA)\nLuc Buée (Centre de Recherche Jean-Pierre Aubert\, France)\nGwenaëlle Catheline (Bordeaux Neurocampus\, France)\nMaria Llorens (Centro de Biologia Molecular Severo Ochoa\, Spain)\nAline Marighetto (Bordeaux Neurocampus\, France)\nLars Nyberg (Umeå University\, Sweden)\nLaure Rondi-Reig (Sorbonne University\, France)\nYaakov Stern (Columbia University\, USA)\nTony Wyss-Coray (Stanford University\, USA) \nMore details\nhttp://cajal-training.org/on-site/ageing-cognition/ \n
URL:https://www.bordeaux-neurocampus.fr/en/event/cajal-course-ageing-cognition/
CATEGORIES:For scientists,Trainings
END:VEVENT
END:VCALENDAR