BEGIN:VCALENDAR
VERSION:2.0
PRODID:-//Bordeaux Neurocampus - ECPv4.9.10//NONSGML v1.0//EN
CALSCALE:GREGORIAN
METHOD:PUBLISH
X-WR-CALNAME:Bordeaux Neurocampus
X-ORIGINAL-URL:https://www.bordeaux-neurocampus.fr/en/
X-WR-CALDESC:Events for Bordeaux Neurocampus
BEGIN:VTIMEZONE
TZID:Europe/Paris
BEGIN:DAYLIGHT
TZOFFSETFROM:+0100
TZOFFSETTO:+0200
TZNAME:CEST
DTSTART:20230326T010000
END:DAYLIGHT
BEGIN:STANDARD
TZOFFSETFROM:+0200
TZOFFSETTO:+0100
TZNAME:CET
DTSTART:20231029T010000
END:STANDARD
END:VTIMEZONE
BEGIN:VEVENT
DTSTART;TZID=Europe/Paris:20230503T140000
DTEND;TZID=Europe/Paris:20230503T140000
DTSTAMP:20260423T165712
CREATED:20230321T162604Z
LAST-MODIFIED:20230420T091220Z
UID:157561-1683122400-1683122400@www.bordeaux-neurocampus.fr
SUMMARY:Thesis defense - Irene Sanchez-Mirasierra
DESCRIPTION:Venue: CGFB \n\nTitle\nDecoding the interplay between autophagy and exosomes at the synapse in Parkinson’s disease \nPublications\nAltered autophagy on the path to Parkinson’s disease\nIrene Sanchez-Mirasierra\, Sergio Hernandez-Diaz\, Saurav Ghimire\, Patrick Main\, Sandra-Fausia Soukup.\nAutophagy in Health and Disease. 2022-01-01. : 271-286.\n10.1016/b978-0-12-822003-0.00006-1 \nMacros to Quantify Exosome Release and Autophagy at the Neuromuscular Junction of Drosophila Melanogaster\nIrene Sanchez-Mirasierra\, Sergio Hernandez-Diaz\, Saurav Ghimire\, Carla Montecinos-Oliva\, Sandra-Fausia Soukup.\nFront. Cell Dev. Biol.. 2021-11-15. 9\n10.3389/fcell.2021.773861 \nTargeting Macroautophagy as a Therapeutic Opportunity to Treat Parkinson’s Disease\nIrene Sanchez-Mirasierra\, Saurav Ghimire\, Sergio Hernandez-Diaz\, Sandra-Fausia Soukup.\nFront. Cell Dev. Biol.. 2022-07-06. 10\n10.3389/fcell.2022.921314 \nEndophilin-B regulates autophagy during synapse development and neurodegeneration\nSergio Hernandez-Diaz\, Saurav Ghimire\, Irene Sanchez-Mirasierra\, Carla Montecinos-Oliva\, Jef Swerts\, Sabine Kuenen\, Patrik Verstreken\, Sandra-Fausia Soukup.\nNeurobiology of Disease. 2022-02-01. 163 : 105595.\n10.1016/j.nbd.2021.105595 \nJury\nEckart Gundelfinger – Professeur émérite – Leibniz Institut für Neurobiologie – Allemagne (Examinateur)\nAude Panatier – Neurocendre Magendie – Bordeaux – France (Examinatrice)\nMuriel Priault – Institut de Biochimie et Génétique Cellulaires – Bordeaux – France (Examinatrice)\nBertrand Mollereau – Laboratoire de Biologie et Modélisation de la Cellule – ENS de Lyon – France (Rapporteur)\nJuan-Manuel Falcon-Perez – CIC Biogune – Bilbao- Spain (Rapporteur) \n
URL:https://www.bordeaux-neurocampus.fr/en/event/thesis-defense-irene-sanchez-mirasierra/
CATEGORIES:Thesis
END:VEVENT
END:VCALENDAR