BEGIN:VCALENDAR
VERSION:2.0
PRODID:-//Bordeaux Neurocampus - ECPv4.9.10//NONSGML v1.0//EN
CALSCALE:GREGORIAN
METHOD:PUBLISH
X-WR-CALNAME:Bordeaux Neurocampus
X-ORIGINAL-URL:https://www.bordeaux-neurocampus.fr/en/
X-WR-CALDESC:Events for Bordeaux Neurocampus
BEGIN:VTIMEZONE
TZID:Europe/Paris
BEGIN:DAYLIGHT
TZOFFSETFROM:+0100
TZOFFSETTO:+0200
TZNAME:CEST
DTSTART:20230326T010000
END:DAYLIGHT
BEGIN:STANDARD
TZOFFSETFROM:+0200
TZOFFSETTO:+0100
TZNAME:CET
DTSTART:20231029T010000
END:STANDARD
END:VTIMEZONE
BEGIN:VEVENT
DTSTART;TZID=Europe/Paris:20230324T140000
DTEND;TZID=Europe/Paris:20230324T140000
DTSTAMP:20260423T201150
CREATED:20230303T131930Z
LAST-MODIFIED:20230323T105426Z
UID:156380-1679666400-1679666400@www.bordeaux-neurocampus.fr
SUMMARY:Thesis defense - Effie Segas
DESCRIPTION:Venue: Centre Broca and on Zoom \n\nDefense in french\n \nEffie Segas\nTeam: Hybrid (INCIA)\nDirecteur de thèse : M Aymar de Rugy\, Directeur de recherche (INCIA) \nTitle\n\nContrôle biomimétique de prothèses à partir des mouvements résiduels et d’informations contextuelles. \nBiomimetic control of prostheses based on residual movements and contextual information. \nAbstract\nAlthough limb deficiency could be considered as a rare condition\, it strongly impacts the quality of life of the persons suffering from it. Despite advances in myoelectric prostheses\, whose control scheme is based on the electrical activity of residual muscles\, the lack of relevant control signals for a trans-humeral level of disability does not allow for simultaneous and intuitive movement of multiple arm joints necessary to bring the hand to various positions and orientations needed to grasp objects. Grounded on advances in movement-based prosthesis control\, we recently proposed a promising alternative using predictions from an artificial neural network\, receiving the position and orientation of the movement goal as well as the current angular position of the residual joints\, to control the degrees of freedom lost following a trans-humeral amputation. In the first set of experiments presented in this thesis\, this control is adapted to be used by an amputee. To do so\, the entire upper limb movements of 10 able-bodied participants\, performed while reaching targets in various positions and orientations\, are used to train a new neural network\, designed to be usable by an amputee. In a virtual environment\, the use of this network adapted to their morphology allowed 19 participants\, including 7 amputees\, to reach various targets without prior training with very high success rates (> 99 %) and reaching times comparable to those of natural movement. Using this same approach\, 15 participants\, including 2 acquired and 1 congenital amputees\, controlled a robotic arm to grasp real objects with high success rates and reaching times consistent with natural movement\, in a simplified context where neither trunk nor shoulder movements could be used to compensate for control imperfections. This approach allows a good convergence of the hand on the targeted object\, which offers direct possibility of application in virtual environment for the treatment of phantom limb pain. However\, it implies an abrupt modification of the distal configuration at each change of target that should be better handled for a real application. In the second part of this thesis\, a new approach is tested to eliminate this abrupt change by proposing a smooth transition\, determined from the speed of the stump movements and the gap between the current and the “goal” distal configurations. Two methods are presented to define this “goal” configuration\, either from the position and orientation of the movement goal (i.e. target object) alone or by also taking into account the current orientation of the stump. In virtual reality\, these controls ensure a smooth transition with\, however\, an extended movement time\, and allowed 12 able-bodied participants to reach targets at various positions and orientations. The good results obtained\, particularly when the current orientation of the stump is taken into account\, allow to consider a transition on a real device whose proof of principle is brought in the last study of this thesis. Despite performances below those observed in virtual reality\, which can be explained by the presence of various constraints (e.g. mechatronics\, management of discontinuity\, non-egocentric point of view\, addition of compensatory movements)\, the 12 valid participants of this experiment were able to grasp most of the proposed targets. These results point to the need for further work to improve the discontinuity management and the real test experimental setup. \nKey words : movement-based control\, trans-humeral prosthesis\, amputee\, artificial neural network\, motor coordination\, joint synergies. \nPublications\n\nMICK\, S.\, SEGAS\, E.\, DURE\, L.\, HALGAND\, C.\, BENOIS-PINEAU\, J.\, LOEB\, G. E.\, CATTAERT\, D.\, & de RUGY\, A. (2021).\nShoulder kinematics plus contextual target information enable control of multiple distal joints of a simulated prosthetic arm and hand [Publisher : BioMed Central]. Journal of NeuroEngineering and Rehabilitation\, 18(1). https://doi.org/10.1186/s12984-020-00793-0  \nSEGAS\, E.\, MICK\, S.\, LECONTE\, V.\, KLOTZ\, R.\, CATTAERT\, D.\, & de RUGY\, A. (In press).\nIntuitive movement-based prosthesis control enables arm amputees to reach naturally in virtual reality (eLife). Rehabilitation Medicine et Physical Therapy.\npreprint (2022): https://doi.org/10.1101/2022.10.15.22281053 \nJury\n\nPrésidente : Mme Hélène Sauzéon\, Professeure des universités (Centre Inria de l’université de Bordeaux)\nRapporteur : M Nathanaël Jarassé\, Chargé de recherche (CNRS / ISIR)\nRapporteur : M Vincent Padois\, Directeur de Recherche (Centre Inria de l’université de Bordeaux)\nExaminatrice : Mme Jozina De graaf\, Maîtresse de conférences (Université Aix-Marseille)\nExaminateur : M Michel Guerraz\, Professeur des universités (Université Savoie Mont-Blanc)\nInvité : M Rémi Klotz\, Docteur (Tour de Gassies)\nDirecteur de thèse : M Aymar de Rugy\, Directeur de recherche (INCIA) \n
URL:https://www.bordeaux-neurocampus.fr/en/event/thesis-defenseeffie-segas/
CATEGORIES:Thesis
END:VEVENT
END:VCALENDAR