BEGIN:VCALENDAR
VERSION:2.0
PRODID:-//Bordeaux Neurocampus - ECPv4.9.10//NONSGML v1.0//EN
CALSCALE:GREGORIAN
METHOD:PUBLISH
X-WR-CALNAME:Bordeaux Neurocampus
X-ORIGINAL-URL:https://www.bordeaux-neurocampus.fr/en/
X-WR-CALDESC:Events for Bordeaux Neurocampus
BEGIN:VTIMEZONE
TZID:Europe/Paris
BEGIN:DAYLIGHT
TZOFFSETFROM:+0100
TZOFFSETTO:+0200
TZNAME:CEST
DTSTART:20220327T010000
END:DAYLIGHT
BEGIN:STANDARD
TZOFFSETFROM:+0200
TZOFFSETTO:+0100
TZNAME:CET
DTSTART:20221030T010000
END:STANDARD
END:VTIMEZONE
BEGIN:VEVENT
DTSTART;TZID=Europe/Paris:20221213T140000
DTEND;TZID=Europe/Paris:20221213T140000
DTSTAMP:20260424T013814
CREATED:20221103T102318Z
LAST-MODIFIED:20221103T173225Z
UID:151719-1670940000-1670940000@www.bordeaux-neurocampus.fr
SUMMARY:Thesis defense - Sophie Gauthier
DESCRIPTION:Venue: Amphi Ellul – Pey Berland \nDefense in english \n\nSophie Gauthier\nTeam Network dynamics for procedural learning (IMN)\nThsesis supervisor: Nicolas Mallet \nTitle\nSpatio-temporal contribution of dopamine in the execution of goal-directed movement in rats \nAbstract\nThe ability to produce movements adapted to our environment is crucial in our daily lives. Years of research to understand this function\, which is crucial to our survival\, have placed dopamine (DA) as key in motor selection and execution processes. Indeed\, beyond its role in the reward circuit\, this neuromodulator is known to be central in motor control. This capital function is well-illustrated in Parkinson’s disease (PD)\, where the death of dopaminergic neurons induces severe motor symptoms\, such as difficulty in initiating movements (akinesia)\, and their slowness (bradykinesia). Importantly\, the neurophysiological mechanisms underlying motor execution are not fully elucidated. This PhD aimed at determining the spatio-temporal contribution of DA in these processes. In the first part of my PhD project\, we developed a “reach-and-grasp” motor task. Then\, we characterized its neurophysiology. Our results show that optimal movements relied on the integrity of the motor cortex and basal ganglia outputs. In addition\, we highlighted the necessity of the DLS for goal-directed movements and questioned the standard description of the DMS function in goal-directed actions. In the second part of my PhD\, we studied the effect of a lack of DA on dexterous movement execution. We mimicked neuronal death observed in PD via the injection of 6-OHDA in the STR. This aimed at characterizing the spatio-temporal dynamic of motor symptoms development. These results demonstrate the necessity of DA in short time scale (in range of minutes) and question the necessity of fast-scale DA dynamics to control online motor execution. In contrast\, DA transmission at a slower time scale seems to be important for the reinforcement and the maintenance of the striatal neuronal activity that is necessary for optimal motor execution. Additionally\, our results illustrate the resilience capacity of the DLS to the lack of DA. Understanding the compensatory mechanisms will require further investigations\, but its characterization could bring innovative ideas to develop new therapeutic strategies for PD. \nKeywords: Dopamine; Striatum; Motor Behavior; Parkinson’s Disease; Cortico-basal ganglia loop; calcium imaging \nJury\n– Dr. Catherine LE MOINE – Directrice de recherche\, Bordeaux – Présidente\n– Dr. Éric BURGUIERE – Directeur de recherche\, Paris – Rapporteur\n– Dr. Emmanuel VALJENT – Directeur de recherche\, Montpellier – Rapporteur\n– Dr. Clémentine BOSCH-BOUJU – Maitresse de conférence universitaire\, Bordeaux – Membre invitée\n– Dr. Nicolas MALLET – Chargé de recherche\, Bordeaux – Directeur de thèse \n
URL:https://www.bordeaux-neurocampus.fr/en/event/thesis-defense-sophie-gauthier/
CATEGORIES:Thesis
END:VEVENT
END:VCALENDAR