BEGIN:VCALENDAR
VERSION:2.0
PRODID:-//Bordeaux Neurocampus - ECPv4.9.10//NONSGML v1.0//EN
CALSCALE:GREGORIAN
METHOD:PUBLISH
X-WR-CALNAME:Bordeaux Neurocampus
X-ORIGINAL-URL:https://www.bordeaux-neurocampus.fr/en/
X-WR-CALDESC:Events for Bordeaux Neurocampus
BEGIN:VTIMEZONE
TZID:Europe/Paris
BEGIN:DAYLIGHT
TZOFFSETFROM:+0100
TZOFFSETTO:+0200
TZNAME:CEST
DTSTART:20220327T010000
END:DAYLIGHT
BEGIN:STANDARD
TZOFFSETFROM:+0200
TZOFFSETTO:+0100
TZNAME:CET
DTSTART:20221030T010000
END:STANDARD
END:VTIMEZONE
BEGIN:VEVENT
DTSTART;TZID=Europe/Paris:20221207T140000
DTEND;TZID=Europe/Paris:20221207T140000
DTSTAMP:20260424T013658
CREATED:20220914T074924Z
LAST-MODIFIED:20221018T135730Z
UID:151520-1670421600-1670421600@www.bordeaux-neurocampus.fr
SUMMARY:Thesis defense - Catherine Marneffe
DESCRIPTION:Venue: Centre Broca Nouvelle-Aquitaine \nThesis supervisor: Christophe Mulle \n\nTitle\nPresynaptic plasticity and memory encoding in hippocampal circuits \nJury\n\nChristophe Mulle\nChristoph Schmidt Hieber\nClaire Rampon\nFrançois Georges\nJack Mellor\n\n
URL:https://www.bordeaux-neurocampus.fr/en/event/thesis-defense-spancatherine-marneffe/
CATEGORIES:Thesis
END:VEVENT
END:VCALENDAR