BEGIN:VCALENDAR
VERSION:2.0
PRODID:-//Bordeaux Neurocampus - ECPv4.9.10//NONSGML v1.0//EN
CALSCALE:GREGORIAN
METHOD:PUBLISH
X-WR-CALNAME:Bordeaux Neurocampus
X-ORIGINAL-URL:https://www.bordeaux-neurocampus.fr/en/
X-WR-CALDESC:Events for Bordeaux Neurocampus
BEGIN:VTIMEZONE
TZID:Europe/Paris
BEGIN:DAYLIGHT
TZOFFSETFROM:+0100
TZOFFSETTO:+0200
TZNAME:CEST
DTSTART:20220327T010000
END:DAYLIGHT
BEGIN:STANDARD
TZOFFSETFROM:+0200
TZOFFSETTO:+0100
TZNAME:CET
DTSTART:20221030T010000
END:STANDARD
END:VTIMEZONE
BEGIN:VEVENT
DTSTART;TZID=Europe/Paris:20221118T140000
DTEND;TZID=Europe/Paris:20221118T140000
DTSTAMP:20260424T031802
CREATED:20220922T074616Z
LAST-MODIFIED:20221116T162806Z
UID:151087-1668780000-1668780000@www.bordeaux-neurocampus.fr
SUMMARY:Thesis defense - Noémie Depret
DESCRIPTION:Venue: Centre Broca Nouvelle-Aquitaine \nDefense in english. \n\nThesis supervisor: Nathalie Sans (Magendie) \nTitle\nRole of the planar polarity pathway in cognitive functions  in the context of postnatal development and aging \nAbstract\nLack of knowledge on the mechanisms of development and function of the central nervous system are slowing our efforts to take care of people suffering from cognitive disorders. Understanding those mechanisms and their role in the modification of neuronal and synaptic properties induced by the environment during life and aging is therefore necessary. \nMy PhD research project tackles this issue through the study of the planar cell polarity protein Vangl2\, which is known to regulate cytoskeleton dynamics during development. I study the role of this protein in the hippocampus\, a cerebral structure involved in episodic memory and context discrimination\, which is known to be affected in some cognitive disorders. Preliminary data from the lab showed that Vangl2 is enriched postnatally in the network formed by 2 sub-regions of the hippocampus: the dentate gyrus and the CA3. My work shows that Vangl2 plays a crucial role in the development and maintenance of a specific synaptic connection in this network: the synapse formed between the granular cell of the DG and the pyramidal neurons of the CA3. Using a mice model for an early deletion of Vangl2 and techniques of virus injections and microscopy\, I show that the early loss of Vangl2 delays the development of the synapse and affects its structural plasticity in adults. Using behavioural experiments\, I show that the early loss of Vangl2 induces defects in some memory processes involving the hippocampus in adult mice. Interestingly\, data in aging mutant mice show that the early loss of Vangl2 in the hippocampus has protective effects against the functional and morphological degradation of the DG/CA3 network linked to aging. \nThese results show the importance of Vangl2 in the morphofunctional properties of the DG/CA3 network across development and aging and establish a link between the planar cell polarity pathway\, the synaptic development and function in the hippocampus\, and cognitive processes through life. \nKeywords : hippocampus\, memory\, planar polarity\, plasticity\, cognitive processes \nJury\nPr Marc Landry\, Pr. Fadel Tissir\, Dr. Claire Rampon\, Dr. Nelson Rebola\, Dr. Cordelia Imig\, Dr. Nathalie Sans \n
URL:https://www.bordeaux-neurocampus.fr/en/event/thesis-defense-noemie-depret/
CATEGORIES:Thesis
END:VEVENT
END:VCALENDAR