BEGIN:VCALENDAR
VERSION:2.0
PRODID:-//Bordeaux Neurocampus - ECPv4.9.10//NONSGML v1.0//EN
CALSCALE:GREGORIAN
METHOD:PUBLISH
X-WR-CALNAME:Bordeaux Neurocampus
X-ORIGINAL-URL:https://www.bordeaux-neurocampus.fr/en/
X-WR-CALDESC:Events for Bordeaux Neurocampus
BEGIN:VTIMEZONE
TZID:Europe/Paris
BEGIN:DAYLIGHT
TZOFFSETFROM:+0100
TZOFFSETTO:+0200
TZNAME:CEST
DTSTART:20220327T010000
END:DAYLIGHT
BEGIN:STANDARD
TZOFFSETFROM:+0200
TZOFFSETTO:+0100
TZNAME:CET
DTSTART:20221030T010000
END:STANDARD
END:VTIMEZONE
BEGIN:VEVENT
DTSTART;TZID=Europe/Paris:20221017T090000
DTEND;TZID=Europe/Paris:20221017T090000
DTSTAMP:20260424T045923
CREATED:20220908T172633Z
LAST-MODIFIED:20221028T142217Z
UID:150779-1665997200-1665997200@www.bordeaux-neurocampus.fr
SUMMARY:Thesis defense - Théo Mille
DESCRIPTION:Venue: Centre Broca \n\nThéo Mille\nEPHE\nINCIA \nJury :\nJean-René Cazalets et Gwenaelle Catheline : directeurs de thèse.\nNicholas Mellan et Christian Gestrau : rapporteurs\nFlorence Perrin : présidente\nSandrine Bertrand : membre invité. \n
URL:https://www.bordeaux-neurocampus.fr/en/event/thesis-defense-theo-mille/
CATEGORIES:Thesis
END:VEVENT
END:VCALENDAR