BEGIN:VCALENDAR
VERSION:2.0
PRODID:-//Bordeaux Neurocampus - ECPv4.9.10//NONSGML v1.0//EN
CALSCALE:GREGORIAN
METHOD:PUBLISH
X-WR-CALNAME:Bordeaux Neurocampus
X-ORIGINAL-URL:https://www.bordeaux-neurocampus.fr/en/
X-WR-CALDESC:Events for Bordeaux Neurocampus
BEGIN:VTIMEZONE
TZID:Europe/Paris
BEGIN:DAYLIGHT
TZOFFSETFROM:+0100
TZOFFSETTO:+0200
TZNAME:CEST
DTSTART:20210328T010000
END:DAYLIGHT
BEGIN:STANDARD
TZOFFSETFROM:+0200
TZOFFSETTO:+0100
TZNAME:CET
DTSTART:20211031T010000
END:STANDARD
END:VTIMEZONE
BEGIN:VEVENT
DTSTART;TZID=Europe/Paris:20211125T140000
DTEND;TZID=Europe/Paris:20211125T140000
DTSTAMP:20260425T003825
CREATED:20210628T140556Z
LAST-MODIFIED:20211008T144949Z
UID:136506-1637848800-1637848800@www.bordeaux-neurocampus.fr
SUMMARY:Thesis defense - Margaux Teil
DESCRIPTION:\n	\n		\n			Venue: Centre Broca / Auditorium \nDefense in english \n\nTitle\n\nMechanistic study and potential therapeutic targets of synucleinopathies \nAbstract\nMy thesis focused on the study of synucleinopathies\, a family of neurodegenerative diseases. The three main synucleinopathies are Parkinson’s disease\, multiple system atrophy\, and dementia with Lewy bodies. These diseases are characterized by the loss of neurons in various brain regions and the presence of intracytoplasmic α-synuclein-positive inclusions. These inclusions are located either in neurons (Lewy bodies) or in oligodendrocytes (Glial cytoplasmic inclusions). The trigger and cause for the formation of these inclusions remain unknown\, and no curative treatments currently exist. The objective of my thesis was to study the neurodegenerative mechanisms and potential therapeutic strategies of these synucleinopathies. For this\, I was first interested in the mechanisms implicated in the transmission of α-synuclein from multiple system atrophy patients. This allowed us to develop a potential new model to study multiple system atrophy in both mice and non-human primates by spreading of α-synuclein within the brain. In the second part\, we wanted to investigate potential therapeutic targets in the same model of Parkinson’s disease. This study confirmed the efficacy and pertinence of three different strategies that target various mechanisms of Parkinson’s disease to induce the protection of dopaminergic neurons of the substantia nigra in a mouse model. By modulating zinc levels\, we demonstrated the importance of zinc concentrations in the brain and the therapeutic interest in targeting metal homeostasis via specific chelators. We then used viral vectors to overexpress a transcription factor implicated in dopaminergic neuron survival\, oxidative stress and proteasome activity in the substantia nigra of a mouse model of Parkinson’s disease. Finally\, we used a small anti-aggregative molecule to determine its efficacy in protecting neurons in the same mouse model. Altogether\, this thesis work showed the implication of α-synuclein in triggering and propagating synucleinopathies\, the importance of targeting this protein\, and other dysregulated cellular mechanisms to discover potential therapies. \nJury\n– François Tison\n– Laura Parkkinen\n– Tiago Outeiro\n– Benjamin Dehay \nPublications\n\nA New Rise of Non-Human Primate Models of Synucleinopathies\nMargaux Teil\, Marie-Laure Arotcarena\, Benjamin Dehay.\n Biomedicines. 2021-03-09. 9(3) : 272. \nL‐DOPA regulates α‐synuclein accumulation in experimental parkinsonism\nMarc Deffains\, Marie‐Hélène Canron\, Margaux Teil\, Qin Li\, Benjamin Dehay\, Erwan Bezard\, Pierre‐Olivier Fernagut.\n Neuropathol Appl Neurobiol. 2020-12-04. \nTargeting α-synuclein for PD Therapeutics: A Pursuit on All Fronts\nMargaux Teil\, Marie-Laure Arotcarena\, Emilie Faggiani\, Florent Laferriere\, Erwan Bezard\, Benjamin Dehay.\n Biomolecules. 2020-03-03. 10(3) : 391. \nAutophagy in Synucleinopathy: The Overwhelmed and Defective Machinery\nMarie-Laure Arotcarena\, Margaux Teil\, Benjamin Dehay.\n Cells. 2019-06-09. 8(6) : 565. \n\n\n		\n	\n\n	\n		\n			 \nMargaux Teil \n/ Team: Physiopathologie des syndromes parkinsoniens (IMN)\nIMN \nSupervisor: Benjamin Dehay \nhttps://www.bordeaux-neurocampus.fr/staff/margaux-teil/ \n\n		\n	\n\n
URL:https://www.bordeaux-neurocampus.fr/en/event/thesis-defense-margaux-teil/
CATEGORIES:Thesis
END:VEVENT
END:VCALENDAR