BEGIN:VCALENDAR
VERSION:2.0
PRODID:-//Bordeaux Neurocampus - ECPv4.9.10//NONSGML v1.0//EN
CALSCALE:GREGORIAN
METHOD:PUBLISH
X-WR-CALNAME:Bordeaux Neurocampus
X-ORIGINAL-URL:https://www.bordeaux-neurocampus.fr/en/
X-WR-CALDESC:Events for Bordeaux Neurocampus
BEGIN:VTIMEZONE
TZID:Europe/Paris
BEGIN:DAYLIGHT
TZOFFSETFROM:+0100
TZOFFSETTO:+0200
TZNAME:CEST
DTSTART:20240331T010000
END:DAYLIGHT
BEGIN:STANDARD
TZOFFSETFROM:+0200
TZOFFSETTO:+0100
TZNAME:CET
DTSTART:20241027T010000
END:STANDARD
END:VTIMEZONE
BEGIN:VEVENT
DTSTART;TZID=Europe/Paris:20240412T113000
DTEND;TZID=Europe/Paris:20240412T113000
DTSTAMP:20260425T164138
CREATED:20230704T080230Z
LAST-MODIFIED:20240403T140635Z
UID:160925-1712921400-1712921400@www.bordeaux-neurocampus.fr
SUMMARY:Canceled // Monthly conference (PhD Seminar) - Olga Penagarikano
DESCRIPTION:Venue : Centre Broca \n\nOlga Penagarikano\nUniversity of the Basque Country\, Bilbao\, Spain \nInvited by Maria Gueidão (Frick’s team – Magendie) \nMore details soon \n\nPhD seminars are organized by the NBA\, Bordeaux Neurocampus\, and the Bordeaux Neurocampus Graduate Program \n
URL:https://www.bordeaux-neurocampus.fr/en/event/monthly-seminar-phd-seminar/
CATEGORIES:For scientists,Monthly conferences
END:VEVENT
END:VCALENDAR