BEGIN:VCALENDAR
VERSION:2.0
PRODID:-//Bordeaux Neurocampus - ECPv4.9.10//NONSGML v1.0//EN
CALSCALE:GREGORIAN
METHOD:PUBLISH
X-WR-CALNAME:Bordeaux Neurocampus
X-ORIGINAL-URL:https://www.bordeaux-neurocampus.fr/en/
X-WR-CALDESC:Events for Bordeaux Neurocampus
BEGIN:VTIMEZONE
TZID:Europe/Paris
BEGIN:DAYLIGHT
TZOFFSETFROM:+0100
TZOFFSETTO:+0200
TZNAME:CEST
DTSTART:20250330T010000
END:DAYLIGHT
BEGIN:STANDARD
TZOFFSETFROM:+0200
TZOFFSETTO:+0100
TZNAME:CET
DTSTART:20251026T010000
END:STANDARD
END:VTIMEZONE
BEGIN:VEVENT
DTSTART;TZID=Europe/Paris:20250523T090000
DTEND;TZID=Europe/Paris:20250523T170000
DTSTAMP:20260419T164113
CREATED:20250403T071431Z
LAST-MODIFIED:20250516T125752Z
UID:182542-1747990800-1748019600@www.bordeaux-neurocampus.fr
SUMMARY:Stand commercial Macherey-Nagel et Hamilton
DESCRIPTION:Lieu : centre Broca Nouvelle-Aquitaine \n\nMACHEREY-NAGEL \nMACHEREY-NAGEL est une société allemande renommée pour son expertise en biologie moléculaire. Depuis plus de 50 ans\, nous offrons des solutions innovantes et de haute qualité pour la purification de l’ADN\, de l’ARN et des protéines. Nos produits sont conçus pour répondre aux exigences des laboratoires de recherche et de diagnostic\, garantissant fiabilité et performance. \nNous serons ravis de discuter de vos besoins et de vous présenter nos produits et services en personne. \nHAMILTON ROBOTICS \nDepuis plus de 70 ans\, Hamilton Robotics travaille aux côtés de ceux qui sont à la pointe de la recherche. Cet échange de connaissances permet à Hamilton de transformer les dernières tendances scientifiques en solutions automatisées\, offrant ainsi aux scientifiques la technologie nécessaire pour accélérer leurs recherches. \nHamilton propose des stations de travail pour une large gamme d’applications courantes. Celles-ci comprennent l’extraction d’acides nucléiques\, la préparation de librairies NGS\, la PCR\, le fractionnement du sang\, la préparation d’échantillons LC-MS\, la culture cellulaire\, la culture des organoïdes et bien d’autres encore. \nL’ensemble de la gamme de produits offre un maximum de fiabilité\, d’efficacité\, de flexibilité et de convivialité. \n
URL:https://www.bordeaux-neurocampus.fr/en/event/stand-commercial-macherey-nagel-et-hamilton/
CATEGORIES:For scientists,home-event,Industrial seminar or booth
END:VEVENT
END:VCALENDAR