BEGIN:VCALENDAR
VERSION:2.0
PRODID:-//Bordeaux Neurocampus - ECPv4.9.10//NONSGML v1.0//EN
CALSCALE:GREGORIAN
METHOD:PUBLISH
X-WR-CALNAME:Bordeaux Neurocampus
X-ORIGINAL-URL:https://www.bordeaux-neurocampus.fr/en/
X-WR-CALDESC:Events for Bordeaux Neurocampus
BEGIN:VTIMEZONE
TZID:Europe/Paris
BEGIN:DAYLIGHT
TZOFFSETFROM:+0100
TZOFFSETTO:+0200
TZNAME:CEST
DTSTART:20260329T010000
END:DAYLIGHT
BEGIN:STANDARD
TZOFFSETFROM:+0200
TZOFFSETTO:+0100
TZNAME:CET
DTSTART:20261025T010000
END:STANDARD
END:VTIMEZONE
BEGIN:VEVENT
DTSTART;TZID=Europe/Paris:20260403T100000
DTEND;TZID=Europe/Paris:20260403T100000
DTSTAMP:20260419T134234
CREATED:20260324T093432Z
LAST-MODIFIED:20260324T093432Z
UID:196904-1775210400-1775210400@www.bordeaux-neurocampus.fr
SUMMARY:Données de la recherche et IA générative\, pour le meilleur ou pour le pire ?
DESCRIPTION:Webinaire organisé par GTSO Données. \nLe webinaire sera centré sur les pratiques de gestion des codes et logiciels. Quelles spécificités\, quels invariants par rapport à ce qui se fait pour la gestion des données ? Comment ce produit de recherche est-il analysé au sein des plans de gestion de données\, entité ou projet ? Quelles recommandations sur DMP OPIDoR ? Quelle place pour les plans de gestion de logiciels ? Quel cadrage pour un dépôt de logiciel garantissant sa reproductibilité et sa réplicabilité ? Quelle valorisation de logiciels (data papers\, software papers…) ? Comment prendre du champ et analyser les pratiques logicielles au sein d’un établissement (production\, réutilisation) ?\nAu travers de trois présentations complémentaires sur les recommandations consacrées aux logiciels dans les plans de gestion de données\, à l’archive universelle du logiciel Software Heritage et au catalogue des logiciels produits par la recherche française\, ce webinaire présentera quelques outils incontournables à disposition des scientifiques pour documenter\, pérenniser et valoriser leurs codes et logiciels. \nSpeakers\n\n Nicolas Rougier – DR Inria et IMN\, Bordeaux\n“Promesses et limites de l’IA pour les neurosciences” \n Ophélie Fraisier-Vannier – MCU IRIT\, Toulouse\n“(Més)usages des LLM pour la production scientifique” \nClément Dussarps – MCU Université de Bordeaux\, et Élodie Vaugier – IE programme PERSCOL\, Université de Bordeaux\n“L’intelligence artificielle comme assistant du chercheur : retour d’expérience”\n\nSur inscription \n
URL:https://www.bordeaux-neurocampus.fr/en/event/donnees-de-la-recherche-et-ia-generative-pour-le-meilleur-ou-pour-le-pire/
CATEGORIES:For scientists,IMN
END:VEVENT
BEGIN:VEVENT
DTSTART;TZID=Europe/Paris:20260403T113000
DTEND;TZID=Europe/Paris:20260403T113000
DTSTAMP:20260419T134234
CREATED:20250624T075248Z
LAST-MODIFIED:20260403T095855Z
UID:185506-1775215800-1775215800@www.bordeaux-neurocampus.fr
SUMMARY:PhD Seminar - Joechen Roeper
DESCRIPTION:Venue: Centre Broca \n\nPr. Joechen Roeper\nInstitute of Neurophysiology\nGoethe University\, Frankfurt\nGermany \nInvited by Jakob Scharnholz (IMN) \n\n\n\n\n\n\n\n\n\n\n\nScientific Focus\nDiversity of Dopamine Neurons and the 22q11 model of Schizophrenia\nAbstract\nSchizophrenia (SCZ) is associated with presynaptic dopaminergic (DA) hyperactivity\, particularly in the associative striatum. However\, direct mechanistic insights from preclinical models have remain limited. Here\, we present the first direct evidence of elevated baseline nigrostriatal dopaminergic activity in a mouse model of the highest known genetic risk factor for SCZ\, the 22q11.2 microdeletion. The Df(16)A+/- mouse model\, which harbors a hemizygous chromosomal deletion on chromosome 16 syntenic to the human 22q11.2 locus\, showed selective hyperactivity in the medial substantia nigra (mSN) DA neurons of both sexes during chronic in vivo single-unit recordings in freely moving animals\, in the absence of pharmacological manipulations. Chemogenetic tagging refined the specific hyperactive DA subpopulation within the mSN revealing that this hyperactivity was confined to DA neurons projecting to the dorsomedial striatum (DMS). DA release dynamics with dLight fiber photometry confirmed elevated DA release specifically in the DMS. Projection-resolved single-nucleus RNA sequencing uncovered the upregulation of the NMDA subunit Grin2c and downregulation of the voltage-gated sodium channel modulator Fgf12 in DMS-projecting DA neurons in Df(16)A+/- mice. In vitro patch-clamp recordings further confirmed functional impact on excitability. Our findings reveal the specific locus of a baseline hyperdopaminergic state within DMS-projecting mSN neurons of Df(16)A+/- mice and provide molecular mechanistic insights linking SCZ genetic risk to dopaminergic dysfunction in defined nigrostriatal subcircuits.\nRecent publications\n\n\nRebound Bursting Selectively Enables Fast Dynamics in Dopamine Midbrain Neurons Projecting to the Dorsolateral Striatum.\nStojanovic S\, Knowlton CJ\, Egger-Mackrodt R\, Mankel J\, Shin J\, Lammel S\, Canavier CC\, Roeper J.\nJ Neurosci. 2025 Oct 29;45(44):e0361252025. doi: 10.1523/JNEUROSCI.0361-25.2025.\n\n\n\nRecovery of the full in vivo firing range in post-lesion surviving DA SN neurons associated with Kv4.3-mediated pacemaker plasticity.\nKovacheva L\, Shin J\, Zaldivar-Diez J\, Mankel J\, Farassat N\, Costa KM\, Thakur P\, Obeso JA\, Roeper J.\nElife. 2025 Sep 18;14:e104037. doi: 10.7554/eLife.104037\n\n\n\nOptogenetic action potentials and intrinsic pacemaker interplay in retrogradely identified midbrain dopamine neurons.\nHammer N\, Vogel P\, Lee S\, Roeper J.\nEur J Neurosci. 2024 Mar;59(6):1311-1331. doi: 10.1111/ejn.16208\n\n\n\nCav1.3 calcium channels are full-range linear amplifiers of firing frequencies in lateral DA SN neurons.\nShin J\, Kovacheva L\, Thomas D\, Stojanovic S\, Knowlton CJ\, Mankel J\, Boehm J\, Farassat N\, Paladini C\, Striessnig J\, Canavier CC\, Geisslinger G\, Roeper J.\nSci Adv. 2022 Jun 10;8(23):eabm4560. doi: 10.1126/sciadv.abm4560.\n\n\n\n\n\n\n\n\n\n\n\n\n\nMeet the speaker!\nYou are a research staff ? Write to Julia Goncalves and Jakob Scharnholz who will organize the schedule. \nYou are a PhD student? You can register to share some pizza after the talk. Registration opens 3 weeks before. \n\nPhD seminars are organized by the NBA\, Bordeaux Neurocampus\, and the Bordeaux Neurocampus Graduate Program.  \n \n
URL:https://www.bordeaux-neurocampus.fr/en/event/phd-seminar-joechen-roeper/
CATEGORIES:For scientists,home-event,IMN,Monthly conferences
ATTACH;FMTTYPE=image/jpeg:https://www.bordeaux-neurocampus.fr/wp-content/uploads/2025/06/roeper-vign.jpg
END:VEVENT
END:VCALENDAR