BEGIN:VCALENDAR
VERSION:2.0
PRODID:-//Bordeaux Neurocampus - ECPv4.9.10//NONSGML v1.0//EN
CALSCALE:GREGORIAN
METHOD:PUBLISH
X-WR-CALNAME:Bordeaux Neurocampus
X-ORIGINAL-URL:https://www.bordeaux-neurocampus.fr/en/
X-WR-CALDESC:Events for Bordeaux Neurocampus
BEGIN:VTIMEZONE
TZID:Europe/Paris
BEGIN:DAYLIGHT
TZOFFSETFROM:+0100
TZOFFSETTO:+0200
TZNAME:CEST
DTSTART:20250330T010000
END:DAYLIGHT
BEGIN:STANDARD
TZOFFSETFROM:+0200
TZOFFSETTO:+0100
TZNAME:CET
DTSTART:20251026T010000
END:STANDARD
END:VTIMEZONE
BEGIN:VEVENT
DTSTART;TZID=Europe/Paris:20251219T140000
DTEND;TZID=Europe/Paris:20251219T140000
DTSTAMP:20260419T203807
CREATED:20250909T065216Z
LAST-MODIFIED:20251107T085942Z
UID:187691-1766152800-1766152800@www.bordeaux-neurocampus.fr
SUMMARY:Thesis defense - Léandre Lavenu
DESCRIPTION:Venue : Centre Broca  \nThesis defended in french \n\nLéandre Lavenu \nTeam : Monoamines\, Parkinson and Pain\nIMN \nThesis directed by Pascal Fossat and Didier Le Ray \nTitle\nInvolvement of brainstem inhibitory networks in the organization of vestibulospinal reflexes \nAbstract\nIn vertebrates\, postural control of the entire body is primarily maintained by motor reflexes of vestibular origin. Excitatory vestibulospinal pathways constitute the main routes regulating these postural reflexes. Such pathways have been described in numerous vertebrate species and exhibit striking anatomical similarities even among phylogenetically distant species with markedly different biomechanical characteristics. In this thesis\, we focused on two evolutionarily distant vertebrate species: the amphibian Xenopus laevis and the mammal\, the mouse. Our goal was to determine whether inhibitory networks orchestrate the activity of excitatory vestibulospinal neurons\, which generate postural reflexes\, throughout evolution. Using various anatomical techniques\, we first demonstrated that inhibitory vestibulospinal projection neurons are present in larval Xenopus\, but disappear after metamorphosis. Similarly\, these inhibitory neurons were not observed in adult mice\, although their presence had previously been reported during the perinatal stage. In addition\, we found that GABAergic and glycinergic systems are present within vestibulospinal neurons in both species\, but their density varies according to developmental stage and species. We then conducted a functional study using a central nervous system (CNS) preparation from larval Xenopus. Our results show that spinal responses elicited by galvanic vestibular stimulation are modulated by GABAergic and glycinergic inhibition in distinct ways. These inhibitory effects involve both local and commissural networks. Moreover\, direct stimulation of each vestibulospinal nucleus suggest that glycinergic inhibition of vestibulospinal neurons is tonic in nature. Furthermore\, our findings suggest that tonic glycinergic activity is reduced through modulation by GABAergic neurons. This interaction regulates vestibulospinal neuron activity and\, consequently\, the amplitude of spinal reflex responses. In parallel\, we examined posturo-locomotor behaviors in mice after inhibiting the activity of GABAergic neurons within the medial vestibular nucleus. Our observations indicate that head posture tone is partly controlled by this neuronal population. However\, general limb mobility and overall posture remained unaffected. The results obtained in larval Xenopus highlight the crucial role of inhibitory networks in coordinating vestibulospinal activity and\, consequently\, in establishing proper postural reflexes. In mice\, GABAergic networks also appear to play a role\, particularly in maintaining head posture against gravity. The subtle differences observed between species may result from compensatory mechanisms in mice\, possibly mediated by glycinergic inhibition and more complex brain structures such as the cerebellum\, compared to Xenopus. Taken together\, these findings provide a first step toward demonstrating the essential contribution of inhibitory networks in orchestrating vestibular reflex activity. Targeting these inhibitory pathways could represent a promising strategy for developing treatments for vestibular disorders. \nKey words\nVestibulospinal\, inhibition\, posture\, vestibular system\, Xenopus laevis\, mouse\, reflex \nJury\nPrésidente : Karine Massé\nRapporteurs : Alexandra Severac-Cauquil et Frédéric Brocard\nExaminateurs: Claire Wyart\, Lora Sweeney et Mathieu Beraneck \n
URL:https://www.bordeaux-neurocampus.fr/en/event/soutenance-de-these-leandre-lavenu/
CATEGORIES:IMN,Thesis
END:VEVENT
END:VCALENDAR