BEGIN:VCALENDAR
VERSION:2.0
PRODID:-//Bordeaux Neurocampus - ECPv4.9.10//NONSGML v1.0//EN
CALSCALE:GREGORIAN
METHOD:PUBLISH
X-WR-CALNAME:Bordeaux Neurocampus
X-ORIGINAL-URL:https://www.bordeaux-neurocampus.fr/en/
X-WR-CALDESC:Events for Bordeaux Neurocampus
BEGIN:VTIMEZONE
TZID:Europe/Paris
BEGIN:DAYLIGHT
TZOFFSETFROM:+0100
TZOFFSETTO:+0200
TZNAME:CEST
DTSTART:20250330T010000
END:DAYLIGHT
BEGIN:STANDARD
TZOFFSETFROM:+0200
TZOFFSETTO:+0100
TZNAME:CET
DTSTART:20251026T010000
END:STANDARD
END:VTIMEZONE
BEGIN:VEVENT
DTSTART;TZID=Europe/Paris:20250919T140000
DTEND;TZID=Europe/Paris:20250919T140000
DTSTAMP:20260420T014910
CREATED:20250428T072503Z
LAST-MODIFIED:20250731T080424Z
UID:183455-1758290400-1758290400@www.bordeaux-neurocampus.fr
SUMMARY:Thesis defense - Ænora Letourneur
DESCRIPTION:Venue : CARF \n \nOn zoom: https://u-bordeaux-fr.zoom.us/j/83810704899 \nThèse défendue en français \n\nÆnora Letourneur \nTeam : SynTeam\nIMN \nTitle\nThe chaperone DNAJB6 as a regulator of alpha-synuclein aggregation in neuronal models of induced synucleinopathy \nAbstract\nThe protein α-synuclein self-assembles into amyloid fibrils\, found in the neuronal or glial inclusion observed in synucleinopathies. In vitro studies have characterized the aggregation mechanisms of the protein\, but the processes that the cell can use to modulate this aggregation are still under investigation. We chose to work in models of induced synucleinopathy\, both primary cultures and in adult mice brains. \nWe first look at a panel of molecular chaperones\, which have been shown to be involved in this regulation\, before focusing of DNAJB6. Indeed\, we observed\, with this protein\, a specific relocalization of DNAJB6\, condensed as punctae\, to the neo-formed aggregates. This observation\, combined with the studies showing DNAJB6 to have an affinity for amyloid structures\, made us hypothesize that DNAJB6 had a functional role in the regulation of the induced synucleinopathy. \nIndeed\, functional studies then allowed us to observe an inhibition of the aggregation of α-syn when DNAJB6 is overexpressed\, both in primary cultures and in mice brains. We deduced that this effect was due to a selective interaction of DNAJB6 with the fibrillar α-syn\, and not the monomeric one. Furthermore\, we were able to show that this inhibition of the aggregation was due to the activity of DNAJB6 alone and not\, as we thought in the beginning\, due to its involvement in a system also containing Hsp110 and Hsc70\, for which DNAJB6 is a co-chaperone. Indeed\, the mutated H31Q DNAJB6\, which cannot interact with Hsc70\, showed the same inhibitory effect as the wild-type DNAJB6. We confirmed this point by reconstituting in vitro the system and seeing that\, in contrast with DNAJB1\, DNAJB6 does not induce a disaggregase activity of the system on the α-syn fibrils. \nKey words\nalpha-synuclein ; synucleinopathy ; molecular chaperones ; DNAJB6 ; neurons \nPublication\nDe Giorgi\, F.\, Letourneur\, A.\, Kashyrina\, M.\, Zinghirino F.\, Dovero\, S.\, Dutheil\, N.\, Largitten L.\, Arotçarena\, M.\, Bezard\, E.\, Canron\, M.\, Meissner\, W.\, De Nuccio\, F.\, Ichas\, F.\, 2024. Reconsidering α-Synuclein inclusion pathology in neurons\, mice\, and humans with an antibody sensing NAC engagement during α-Synuclein amyloid conversion. (preprint)\nJury\nDr. Nocca Smet\, Université de Lille – Rapportrice\nDr. Genevaux Pierre\, Université Toulouse 3 – Rapporteur\nDr. Angot Elodie\, ROCHE – Examinatrice\nDr. Baron Thierry\, Anses Lyon – Examinateur\n
URL:https://www.bordeaux-neurocampus.fr/en/event/thesis-defense-aenora-letourneur/
CATEGORIES:IMN,Thesis
END:VEVENT
END:VCALENDAR