BEGIN:VCALENDAR
VERSION:2.0
PRODID:-//Bordeaux Neurocampus - ECPv4.9.10//NONSGML v1.0//EN
CALSCALE:GREGORIAN
METHOD:PUBLISH
X-WR-CALNAME:Bordeaux Neurocampus
X-ORIGINAL-URL:https://www.bordeaux-neurocampus.fr/en/
X-WR-CALDESC:Events for Bordeaux Neurocampus
BEGIN:VTIMEZONE
TZID:Europe/Paris
BEGIN:DAYLIGHT
TZOFFSETFROM:+0100
TZOFFSETTO:+0200
TZNAME:CEST
DTSTART:20250330T010000
END:DAYLIGHT
BEGIN:STANDARD
TZOFFSETFROM:+0200
TZOFFSETTO:+0100
TZNAME:CET
DTSTART:20251026T010000
END:STANDARD
END:VTIMEZONE
BEGIN:VEVENT
DTSTART;VALUE=DATE:20250701
DTEND;VALUE=DATE:20250704
DTSTAMP:20260420T070830
CREATED:20250617T090535Z
LAST-MODIFIED:20250623T075440Z
UID:185015-1751328000-1751587199@www.bordeaux-neurocampus.fr
SUMMARY:7èmes journées de Neurophysiologie Clinique
DESCRIPTION:The 7th Journées de Neurophysiologie Clinique (JNC) will be held in Bordeaux from July 1-3\, 2025\, on the Bordeaux Bastide campus. \nOrganized by the Société de Neurophysiologie Clinique de Langue Française\, these days are an ideal opportunity to bring together a diverse community of professionals: neurophysiologists\, neurologists\, neuropediatricians\, psychiatrists\, psychologists\, intensive care physicians\, neuroscience researchers\, engineers\, nurses and technicians. \nThis year’s edition of the Clinical Neurophysiology Journeys will highlight several exciting themes. The thematic day on July 1st focus on the study of the basal ganglia and their role in motor\, epilepsy and cognitive functions. To close this first day\, we will have the pleasure of listening to Jennifer Coull\, who will take us into the world of time with a keynote lecture on time perception. \nThe following days will explore vestibular system adaptation in microgravity\, the electrophysiological dynamics of sleep and its disorders\, as well as the neurophysiology of cenesthesia and interoception. \nWe hope that this preview of the program will make you want to take part and share your experiences in a setting that is both scientific and friendly\, in the heart of our beautiful city of Bordeaux\, along the banks of the Garonne River. \nLocal organizing committee\nJérôme AUPY\nPierre BURBAUD\nEdouard COURTIN\nNatalia DELGADO PICCOLI\nImad GHORAYEB\nDominique GUEHL\nVéronique MICHEL\nJean-Arthur MICOULAUD \nProgram : Neurophysiologie Clinique_programme \nFurther information and registration \n \nContact : secretariat-snclf  secretariat-snclf@ant-congres.com \n
URL:https://www.bordeaux-neurocampus.fr/en/event/7emes-journees-de-neurophysiologie-clinique/
CATEGORIES:For scientists,IMN
ATTACH;FMTTYPE=image/png:https://www.bordeaux-neurocampus.fr/wp-content/uploads/2025/06/Neurophysiologie-Clinique-.png
END:VEVENT
END:VCALENDAR