BEGIN:VCALENDAR
VERSION:2.0
PRODID:-//Bordeaux Neurocampus - ECPv4.9.10//NONSGML v1.0//EN
CALSCALE:GREGORIAN
METHOD:PUBLISH
X-WR-CALNAME:Bordeaux Neurocampus
X-ORIGINAL-URL:https://www.bordeaux-neurocampus.fr/en/
X-WR-CALDESC:Events for Bordeaux Neurocampus
BEGIN:VTIMEZONE
TZID:Europe/Paris
BEGIN:DAYLIGHT
TZOFFSETFROM:+0100
TZOFFSETTO:+0200
TZNAME:CEST
DTSTART:20250330T010000
END:DAYLIGHT
BEGIN:STANDARD
TZOFFSETFROM:+0200
TZOFFSETTO:+0100
TZNAME:CET
DTSTART:20251026T010000
END:STANDARD
END:VTIMEZONE
BEGIN:VEVENT
DTSTART;TZID=Europe/Paris:20250315T163000
DTEND;TZID=Europe/Paris:20250315T180000
DTSTAMP:20260422T095757
CREATED:20250121T170154Z
LAST-MODIFIED:20250307T142839Z
UID:179877-1742056200-1742061600@www.bordeaux-neurocampus.fr
SUMMARY:Rencard du savoir : "IA : un état de l'art"
DESCRIPTION:Lieu : Médiathèque Jean Vautrin – 32 Route de Léognan à Gradignan \n\nCafé-débat organisé par le service culture de l’université de Bordeaux. \nL’essor de l’intelligence artificielle (IA) transforme profondément le monde de l’art. Des algorithmes créent aujourd’hui des oeuvres\, des compositions musicales\, et même des sculptures. \nCette conférence examinera comment l’IA repousse les limites de la créativité humaine\, tout en soulevant des questions éthiques : peut-on considérer une œuvre générée par une machine comme une création artistique ? Quelle est la place de l’humain dans ce processus ? Comment les artistes s’emparent-ils de l’IA ? Et comment l’IA utilise-t-elle nos créations artistiques ?\nDu rôle joué par les algorithmes dans la génération d’œuvres originales aux débats autour de l’authenticité et de la propriété intellectuelle de ces œuvres\, nous interrogerons l’avenir de l’art dans cette nouvelle ère numérique. \nIntervenants\n\nCécile Croce\, professeure des universités en esthétique et sciences de l’art université Bordeaux Montaigne\nFlorent Aziosmanoff\, auteur et théoricien de l’art numérique\nXavier Hinaut\, chercheur en Neurosciences computationnelles et en machine learning\n\nModération : Anne-Sophie Novel\, journaliste. \nEntrée libre et gratuite. \n
URL:https://www.bordeaux-neurocampus.fr/en/event/rencard-du-savoir-ia-un-etat-de-lart/
CATEGORIES:Events for all,IMN
END:VEVENT
END:VCALENDAR