BEGIN:VCALENDAR
VERSION:2.0
PRODID:-//Bordeaux Neurocampus - ECPv4.9.10//NONSGML v1.0//EN
CALSCALE:GREGORIAN
METHOD:PUBLISH
X-WR-CALNAME:Bordeaux Neurocampus
X-ORIGINAL-URL:https://www.bordeaux-neurocampus.fr/en/
X-WR-CALDESC:Events for Bordeaux Neurocampus
BEGIN:VTIMEZONE
TZID:Europe/Paris
BEGIN:DAYLIGHT
TZOFFSETFROM:+0100
TZOFFSETTO:+0200
TZNAME:CEST
DTSTART:20260329T010000
END:DAYLIGHT
BEGIN:STANDARD
TZOFFSETFROM:+0200
TZOFFSETTO:+0100
TZNAME:CET
DTSTART:20261025T010000
END:STANDARD
END:VTIMEZONE
BEGIN:VEVENT
DTSTART;TZID=Europe/Paris:20260414T140000
DTEND;TZID=Europe/Paris:20260414T140000
DTSTAMP:20260421T134339
CREATED:20260320T143708Z
LAST-MODIFIED:20260402T091921Z
UID:196358-1776175200-1776175200@www.bordeaux-neurocampus.fr
SUMMARY:HDR defense - Florian Levet
DESCRIPTION:Venue: CARF conference room \n\nTeam: Quantitative imaging of the cell – Sibarita (IINS) \nTitle\nMaking Sense of Complex Microscopy Data: From Point Clouds to Unified Multimodal Analysis \nJury\nDr. Laurence BRESSON-BEPOLDIN CRHC\, CNRS\, HDR\nDr. Anatole CHESSEL\, MdC Ecole Polytechnique\, HDR\nProf. Thomas WALTER\, Professeur Ecole des Mines Paris\nProf. Xavier GRANIER\, Professeur Institut d’Optique Bordeaux\nProf. Daniel SAGE\, Professeur EPFL\, Lausanne \n
URL:https://www.bordeaux-neurocampus.fr/en/event/hdr-defense-florian-levet/
CATEGORIES:For scientists,HDR,home-event,IINS
END:VEVENT
END:VCALENDAR