BEGIN:VCALENDAR
VERSION:2.0
PRODID:-//Bordeaux Neurocampus - ECPv4.9.10//NONSGML v1.0//EN
CALSCALE:GREGORIAN
METHOD:PUBLISH
X-WR-CALNAME:Bordeaux Neurocampus
X-ORIGINAL-URL:https://www.bordeaux-neurocampus.fr/en/
X-WR-CALDESC:Events for Bordeaux Neurocampus
BEGIN:VTIMEZONE
TZID:Europe/Paris
BEGIN:DAYLIGHT
TZOFFSETFROM:+0100
TZOFFSETTO:+0200
TZNAME:CEST
DTSTART:20250330T010000
END:DAYLIGHT
BEGIN:STANDARD
TZOFFSETFROM:+0200
TZOFFSETTO:+0100
TZNAME:CET
DTSTART:20251026T010000
END:STANDARD
END:VTIMEZONE
BEGIN:VEVENT
DTSTART;TZID=Europe/Paris:20251001T140000
DTEND;TZID=Europe/Paris:20251001T170000
DTSTAMP:20260422T022125
CREATED:20250901T114324Z
LAST-MODIFIED:20250909T100646Z
UID:187347-1759327200-1759338000@www.bordeaux-neurocampus.fr
SUMMARY:Mini symposium - Studying adhesion molecular dynamics and architecture: from single cell to multicellular assemblies
DESCRIPTION:Venue: CARF \n\nIn the frame of Violeta Milanovic‘s thesis defense \nTitle\nStudying adhesion molecular dynamics and architecture: from single cell to multicellular assemblies \nSpeakers\n\nBernhard WEHRLE-HALLER\, Geneva University (professor\, UNIGE)\nVesa HYTÖNEN\, Tampere University\, Finland (professor\, TAU)\nCorinne ALBIGES-RIZO\, Grenoble Alpes University\, France (research director\, CNRS)\nPierre NASSOY\, Bordeaux University\, France (research director\, CNRS\, LP2N): “Super-deformability of induced pluripotent stem cell cysts”\nSophie BRASSELET\, Aix-Marseille University\, France (research director\, CNRS\, IF)\n\n
URL:https://www.bordeaux-neurocampus.fr/en/event/mini-symposium-milanovic/
CATEGORIES:For scientists,home-event,IINS,Symposium
END:VEVENT
END:VCALENDAR