BEGIN:VCALENDAR
VERSION:2.0
PRODID:-//Bordeaux Neurocampus - ECPv4.9.10//NONSGML v1.0//EN
CALSCALE:GREGORIAN
METHOD:PUBLISH
X-WR-CALNAME:Bordeaux Neurocampus
X-ORIGINAL-URL:https://www.bordeaux-neurocampus.fr/en/
X-WR-CALDESC:Events for Bordeaux Neurocampus
BEGIN:VTIMEZONE
TZID:Europe/Paris
BEGIN:DAYLIGHT
TZOFFSETFROM:+0100
TZOFFSETTO:+0200
TZNAME:CEST
DTSTART:20220327T010000
END:DAYLIGHT
BEGIN:STANDARD
TZOFFSETFROM:+0200
TZOFFSETTO:+0100
TZNAME:CET
DTSTART:20221030T010000
END:STANDARD
END:VTIMEZONE
BEGIN:VEVENT
DTSTART;TZID=Europe/Paris:20220321T143000
DTEND;TZID=Europe/Paris:20220321T143000
DTSTAMP:20260421T141322
CREATED:20220215T151219Z
LAST-MODIFIED:20220318T145955Z
UID:145111-1647873000-1647873000@www.bordeaux-neurocampus.fr
SUMMARY:Soutenance d'HDR - Jean-Marc Lasserre
DESCRIPTION:Lieu : Module 1\,3 – Campus Carreire \nINCIA \nEquipe Neurogénétique fondamentale (nouvelle équipe dirigée par Cyril Goizet et Giovanni Stevanin) \nTitre\nLa levure Sacchamyroces carevisiae utilisées comme modèle et outil pour des pathologies humaines rares dans lesquelles la mitochondrie est impliquée directement ou indirectement. \nJury\nM. Giovanni STEVANIN\, Professeur des universités\, INSERM – RapporteurM. Marc BLONDEL\, Professeur des universités\, INSERM – RapporteurMme Nadine CAMOUGRAND\, Directrice de recherche\, CNRS – RapporteurMme DUFOURCQ Pascale\, Professeure des universités\, Université de Bordeaux – Examinateur\nMme Célia MARELLI\, Docteure\, CHU de Montpellier – ExaminateurM. Cyril GOIZET\, Professeur des universités\, CHU de Bordeaux – Examinateur \n
URL:https://www.bordeaux-neurocampus.fr/en/event/soutenance-dhdr-jean-marc-lasserre/
CATEGORIES:HDR
END:VEVENT
END:VCALENDAR