BEGIN:VCALENDAR
VERSION:2.0
PRODID:-//Bordeaux Neurocampus - ECPv4.9.10//NONSGML v1.0//EN
CALSCALE:GREGORIAN
METHOD:PUBLISH
X-WR-CALNAME:Bordeaux Neurocampus
X-ORIGINAL-URL:https://www.bordeaux-neurocampus.fr/en/
X-WR-CALDESC:Events for Bordeaux Neurocampus
BEGIN:VTIMEZONE
TZID:Europe/Paris
BEGIN:DAYLIGHT
TZOFFSETFROM:+0100
TZOFFSETTO:+0200
TZNAME:CEST
DTSTART:20210328T010000
END:DAYLIGHT
BEGIN:STANDARD
TZOFFSETFROM:+0200
TZOFFSETTO:+0100
TZNAME:CET
DTSTART:20211031T010000
END:STANDARD
END:VTIMEZONE
BEGIN:VEVENT
DTSTART;TZID=Europe/Paris:20210407T160000
DTEND;TZID=Europe/Paris:20210407T170000
DTSTAMP:20260422T091622
CREATED:20210322T135305Z
LAST-MODIFIED:20210401T110731Z
UID:132979-1617811200-1617814800@www.bordeaux-neurocampus.fr
SUMMARY:HDR defense - Alexandre Zénon
DESCRIPTION:\n	\n		\n			Via zoom: https://u-bordeaux-fr.zoom.us/j/84526239201 \n\nTitle: An information-theoretic perspective on cognition\, effort and arousal\nDefense in french \nJury\nM. Andrea DESANTIS\, Chercheur\, ONERA\,\nM. Aymar DE RUGY\, Directeur de recherche\, CNRS –Bordeaux\,\nM. Medhi KHAMASSI\, Directeur de recherche\, CNRS –Paris\, Rapporteur\,\nM. Pierre–Yves OUDEYER\, Directeur de recherche\, INRIA\,\nM. Mathias PESSIGLIONE\, Directeur de recherche\, Inserm\, Rapporteur\,\nM. Nicolas ROUGIER\, Chargé de recherche\, INRIA\, Rapporteur \n\n		\n	\n\n	\n		\n			 \nAlexandre Zénon\nTeam Motor control and cognition\nINCIA \n\n		\n	\n\n
URL:https://www.bordeaux-neurocampus.fr/en/event/soutenance-de-these-alexandre-zenon/
CATEGORIES:HDR
END:VEVENT
END:VCALENDAR