BEGIN:VCALENDAR
VERSION:2.0
PRODID:-//Bordeaux Neurocampus - ECPv4.9.10//NONSGML v1.0//EN
CALSCALE:GREGORIAN
METHOD:PUBLISH
X-WR-CALNAME:Bordeaux Neurocampus
X-ORIGINAL-URL:https://www.bordeaux-neurocampus.fr/en/
X-WR-CALDESC:Events for Bordeaux Neurocampus
BEGIN:VTIMEZONE
TZID:Europe/Paris
BEGIN:DAYLIGHT
TZOFFSETFROM:+0100
TZOFFSETTO:+0200
TZNAME:CEST
DTSTART:20220327T010000
END:DAYLIGHT
BEGIN:STANDARD
TZOFFSETFROM:+0200
TZOFFSETTO:+0100
TZNAME:CET
DTSTART:20221030T010000
END:STANDARD
END:VTIMEZONE
BEGIN:VEVENT
DTSTART;TZID=Europe/Paris:20220706T110000
DTEND;TZID=Europe/Paris:20220706T110000
DTSTAMP:20260423T094949
CREATED:20220601T130748Z
LAST-MODIFIED:20220704T112139Z
UID:148592-1657105200-1657105200@www.bordeaux-neurocampus.fr
SUMMARY:CANCELLED - Impromptu seminar - Maxime Assous
DESCRIPTION:Maxime Assous\nVenue: Centre Broca \n\nMaxime Assous\,\nAssociate professor\nRutgers University\, USA \nInvited by Nicolas Mallet \nTitle\nNovel interneuronal circuits modulate striatal output and striatal dependent behaviors \nAbstract\nThe striatum is the main input structure of the basal ganglia (BG)\, the largest group of interconnected subcortical nuclei.  The BG is essential for voluntary motor control\, several types of learning and other higher cognitive functions.  Among the most important recent discoveries about the functional organization of the striatum\, resulting largely from work in our laboratory\, is the existence of a highly diverse population of GABAergic interneurons whose anatomy\, physiology and connectomes have been the principal focus of my research for the past 8 years. \nI will first review some of these principal findings including the discovery of 4 classes of novel GABAergic interneurons\, their electrophysiological properties and their heretofore unknown highly selective and specific intrastriatal connectivity. \nNext\, I will review some of my more recent work on the specificity and selectivity of excitatory afferent inputs to these interneurons\, focusing on a novel disynaptic thalamostriatal pathway as well as a novel source of extrinsic glutamatergic originating from the pedunculopontine nucleus\, selectively innervating striatal interneurons. \nIn the next part of the talk\, I will describe some of the first studies of extrinsic GABAergic inhibitory inputs to striatal projection neurons and interneurons from subtypes of globus pallidus (GP) neurons.  Using various viral transduction strategies and intersectional approaches to identify GP neurons on the bases of their genetic profile and specific cellular projection targets\, I will show the selective innervation of different striatal projection neurons and interneurons by prototypic and arkypallidal GP neurons. Further\, I will outline some preliminary results investigating the functional role of these striatal extrinsic inhibitory projections. \nLastly\, I will describe the impact of subtypes of nicotinic receptors\, specifically those that contain the beta-2 subunit\, on striatal neuronal activity and behaviors. \n  \n
URL:https://www.bordeaux-neurocampus.fr/en/event/impromptu-seminar-maxime-assous/
CATEGORIES:For scientists,home-event,Impromptu seminar
END:VEVENT
END:VCALENDAR