BEGIN:VCALENDAR
VERSION:2.0
PRODID:-//Bordeaux Neurocampus - ECPv4.9.10//NONSGML v1.0//EN
CALSCALE:GREGORIAN
METHOD:PUBLISH
X-WR-CALNAME:Bordeaux Neurocampus
X-ORIGINAL-URL:https://www.bordeaux-neurocampus.fr/en/
X-WR-CALDESC:Events for Bordeaux Neurocampus
BEGIN:VTIMEZONE
TZID:Europe/Paris
BEGIN:DAYLIGHT
TZOFFSETFROM:+0100
TZOFFSETTO:+0200
TZNAME:CEST
DTSTART:20200329T010000
END:DAYLIGHT
BEGIN:STANDARD
TZOFFSETFROM:+0200
TZOFFSETTO:+0100
TZNAME:CET
DTSTART:20201025T010000
END:STANDARD
END:VTIMEZONE
BEGIN:VEVENT
DTSTART;VALUE=DATE:20201102
DTEND;VALUE=DATE:20201107
DTSTAMP:20260425T143727
CREATED:20201014T145747Z
LAST-MODIFIED:20201014T153737Z
UID:126386-1604275200-1604707199@www.bordeaux-neurocampus.fr
SUMMARY:Cajal online lecture series: Single Cell Transcriptomics
DESCRIPTION:Online Zoom Webinar  \nRegister by 1 November 2020 \n\n\n\nCourse overview\n\n\n\n\n\n\nTo be able to perform molecular analysis on the scale of single-cells with a throughput of 1000s of cells per experiment opens an unprecedented window into neuroscience and biology. We can now ask questions on how different cell types arise\, respond to stimuli or are changed in disorders. The multitude of data also moves molecular biology into a new era in terms of data analysis and statistics\, changing the demands on researchers. In this online course\, we will hear from some of the leaders in the field in the use of single-cell transcriptomics and the analysis of the nervous system. The aim is to cover a wide range of aspects from chemistries and methodologies of single cell transcriptomics to computational methods to leverage this new wealth of data to push our understanding of the brain. \n\n\n\n\n\n\n\n\nDirectors\n\n\n\n\n\n\n\n\n\n\n\n\n\nJens Hjerling-Leffler\nCo-Director\nKarolinska Institute\,  Sweden\n\n\n\n\n\n\n\n\n\n\n\n\n\n\n\n\nPeter Kharchenko\nCo-Director\nHarvard Medical School\, USA\n\n\n\n\n\n\n\n\n\n\n\n\n\n  Directors info  \n\n\n\n\n\n\n\n\n\n\n\n\n\n\n\n\n\n\n\n\n\n\n\n\nKeynote Speakers\n\nNaomi Habib – Edmond & Lily Safra Center for Brain Sciences (ELSC)\, Israel\nKenneth Harris – University College London (UCL)\, UK\nEd Lein – Allen Institute for Brain Science\, US\nSten Linnarsson – Karolinska Institute\, Sweden\nJohn Marioni – European Bioinformatics Institute (EMBL-EBI)\, UK\nAna Martin-Villalba – German Cancer Research Center (DKFZ)\, Germany\nSarah Teichmann – Wellcome Sanger institute\, UK\nKun Zhang – Department of Bioengineering\, University of California\, US\n\n\n\n\n\n\n\n\n\n\n\n\n\n\n\n\n\n\n\n\n\n\n\n\n\n\n\n\n\n\n\n\n\nGeneral information\n\n\n\n\n\nEach session is composed of a 45 min. lecture followed by a 15 min. Q&A. \nQuestions can be asked through typing them in the Zoom Q&A system. \nParticipation is free of charge. Registration is compulsory to get the access link to the Zoom Webinar. \n\nMore details\nhttp://cajal-training.org/2020/single-cell-transcriptomics/ \n\n\n\n\nOnline lecture series \nwith the support of the Bordeaux School of Neuroscience \n\n\n\n\n\n\nThe online lecture series will be hosted by the Cajal Administration in partnership with the Bordeaux School of Neuroscience. \nFor additional information on this online lecture series\, please email the Cajal Programme administration at info@cajal-training.org. \n\n\n\n\n\n\n\n\n\n\n\n\n\n\n
URL:https://www.bordeaux-neurocampus.fr/en/event/cajal-online-lecture-series-single-cell-transcriptomics/
CATEGORIES:Cajal Lectures,For scientists,home-event,Trainings
ATTACH;FMTTYPE=image/jpeg:https://www.bordeaux-neurocampus.fr/wp-content/uploads/2020/05/cajal-novembre2020.jpg
END:VEVENT
END:VCALENDAR