BEGIN:VCALENDAR
VERSION:2.0
PRODID:-//Bordeaux Neurocampus - ECPv4.9.10//NONSGML v1.0//EN
CALSCALE:GREGORIAN
METHOD:PUBLISH
X-WR-CALNAME:Bordeaux Neurocampus
X-ORIGINAL-URL:https://www.bordeaux-neurocampus.fr/en/
X-WR-CALDESC:Events for Bordeaux Neurocampus
BEGIN:VTIMEZONE
TZID:Europe/Paris
BEGIN:DAYLIGHT
TZOFFSETFROM:+0100
TZOFFSETTO:+0200
TZNAME:CEST
DTSTART:20250330T010000
END:DAYLIGHT
BEGIN:STANDARD
TZOFFSETFROM:+0200
TZOFFSETTO:+0100
TZNAME:CET
DTSTART:20251026T010000
END:STANDARD
END:VTIMEZONE
BEGIN:VEVENT
DTSTART;VALUE=DATE:20250609
DTEND;VALUE=DATE:20250613
DTSTAMP:20260421T232133
CREATED:20241209T161147Z
LAST-MODIFIED:20250609T175524Z
UID:178650-1749427200-1749772799@www.bordeaux-neurocampus.fr
SUMMARY:Psychoneuroimmunology Research Society (PNIRS)
DESCRIPTION: Venue: Cité Mondiale Convention Centre \n\nJoin the PNIRS 2025 Annual Meeting\, where attendees can immerse themselves in cutting-edge research and dynamic discussions shaping the future PNI. Take advantage of this unique opportunity to connect with thought leaders and colleagues passionate about the intersection of psychology\, neuroscience\, and immunology. Gain insights into the latest breakthroughs\, participate in a variety of engaging sessions\, and discover innovative approaches that can enhance your research. And don’t forget to plan time to explore the beauty and wonder of Bordeaux\, France! \n\nImportant Dates\n\nOpen Call for Member Sponsored Symposium – Oct 4 – Dec 4\nOpen Call for abstracts and meeting registration – January 13\nDeadline for Call for abstracts and early bird registration – April 1\nMeeting Dates – June 9-12\n\nMore details\nhttps://www.pnirs.org/meetings \n
URL:https://www.bordeaux-neurocampus.fr/en/event/psychoneuroimmunology-research-society-pnirs/
CATEGORIES:For scientists,Nutrineuro,Symposium
END:VEVENT
BEGIN:VEVENT
DTSTART;TZID=Europe/Paris:20250611T113000
DTEND;TZID=Europe/Paris:20250611T113000
DTSTAMP:20260421T232133
CREATED:20250513T103756Z
LAST-MODIFIED:20250527T153538Z
UID:183809-1749641400-1749641400@www.bordeaux-neurocampus.fr
SUMMARY:Seminar - Sophie Bavard
DESCRIPTION:Venue: Centre Broca \n\nSophie Bavard\nParis Brain Institute\nhttps://sophiebavard.wixsite.com/research \nInvited by Shauna Parkes (INCIA) \nTitle\nWhat shapes our learning? Context\, others\, and ourselves \nSummary\nIn this talk\, I will present how my research has explored different ways people learn\, both on their own and by watching others. First\, I used reinforcement learning models to understand how people adjust their internal value representations\, and hence their choices\, depending on the context in which decisions were made. I then shifted toward social learning to understand how people infer others’ preferences by observing not just their choices\, but also their decision times. More recently\, I’ve been looking at how people use their own confidence to guide learning in the absence of external feedback. Across these projects\, I have used computational models to better understand the processes behind these different forms of learning.\n\n
URL:https://www.bordeaux-neurocampus.fr/en/event/seminar-sophie-bavard/
CATEGORIES:For scientists,home-event,Impromptu seminar,iNCIA
END:VEVENT
BEGIN:VEVENT
DTSTART;TZID=Europe/Paris:20250611T180000
DTEND;TZID=Europe/Paris:20250611T193000
DTSTAMP:20260421T232133
CREATED:20250516T123303Z
LAST-MODIFIED:20250523T121253Z
UID:183874-1749664800-1749670200@www.bordeaux-neurocampus.fr
SUMMARY:Soirée ECHO - Lionel Naccache
DESCRIPTION:Lieu : Station Ausone – 8\, rue de la Vieille Tour \n\nA propos de son livre “Sujet\, es-tu là ?” paru aux éditions Odile Jacob \nPartant de la conscience\, le neuroscientifique et neurologue explore des thèmes variés qui ramènent au sujet : l’empathie\, les cartes mentales\, Alzheimer\, l’exploration du sommeil\, les neuropuces\, ChatGPT\, entre autre. \nOrganisé par la librairie Mollat et Cap Sciences \nEn savoir plus \n  \n
URL:https://www.bordeaux-neurocampus.fr/en/event/soiree-echo-lionel-naccache/
CATEGORIES:Events for all,home-event,pour tous homepage
END:VEVENT
END:VCALENDAR