BEGIN:VCALENDAR
VERSION:2.0
PRODID:-//Bordeaux Neurocampus - ECPv4.9.10//NONSGML v1.0//EN
CALSCALE:GREGORIAN
METHOD:PUBLISH
X-WR-CALNAME:Bordeaux Neurocampus
X-ORIGINAL-URL:https://www.bordeaux-neurocampus.fr/en/
X-WR-CALDESC:Events for Bordeaux Neurocampus
BEGIN:VTIMEZONE
TZID:Europe/Paris
BEGIN:DAYLIGHT
TZOFFSETFROM:+0100
TZOFFSETTO:+0200
TZNAME:CEST
DTSTART:20240331T010000
END:DAYLIGHT
BEGIN:STANDARD
TZOFFSETFROM:+0200
TZOFFSETTO:+0100
TZNAME:CET
DTSTART:20241027T010000
END:STANDARD
END:VTIMEZONE
BEGIN:VEVENT
DTSTART;TZID=Europe/Paris:20241219T150000
DTEND;TZID=Europe/Paris:20241219T150000
DTSTAMP:20260422T094422
CREATED:20241122T155147Z
LAST-MODIFIED:20241209T172813Z
UID:177947-1734620400-1734620400@www.bordeaux-neurocampus.fr
SUMMARY:Thesis defense Marie Martin
DESCRIPTION:Venue: Centre Broca \nDefense in french \n\nMarie Martin\nNutriNeuro \nThesis supervisor: Corinne Joffre \nTitle\nEffect of a plant extracts and omega-3 combination on biological processes involved in age-related cognive decline \nAbstract\nPopulation’s aging represents one of the world’s greatest economic\, societal and public health challenges. By 2050\, more than a billion people worldwide will be aged 60 or over\, making it all the more important to age well. In this context\, age-related cognitive decline\, characteristic of aging\, is a critical factor to be considered in order to improve the quality of life of the elderly and prevent loss of autonomy. One promising approach is to propose nutritional strategies. Among existing bioactive nutrients\, polyphenols from berries (grapes\, blueberries)\, saffron compounds and n-3 polyunsaturated fatty acids (n-3 PUFAs) from fish are recognized for their beneficial properties on memory functions. The aim of this thesis was to evaluate the efficacy of a combination of these nutrients in preventing age-related cognitive decline\, and to understand the neurobiological mechanisms involved. We targeted the hippocampus\, a key brain structure involved in memory processes and particularly impaired during aging. Our main results showed that a combination of berry polyphenols\, saffron compounds and n-3 PUFA extracts in aged mice effectively prevented both short- and long-term memory impairment. These results were associated with improved neuronal plasticity and neurogenesis\, including an increase in DCX\, a marker of immature neurons\, and up-regulation of signalling pathways involved in synaptic development and function. These beneficial effects can be explained by the modulation of several key biological processes. Indeed\, the nutrient combination showed a powerful anti-inflammatory effect by regulating inflammatory lipid mediators\, notably pro-resolving oxylipins (18-HEPE\, 17-HDHA\, 14-HDHA) in adult mice during of acute inflammation\, and by inhibiting inflammation-related signaling pathways in aged mice during of chronic inflammation. In addition\, it limited oxidation by increasing the expression of antioxidant enzymes such as catalase\, superoxide dismutase and glutathione peroxidase in adult mice in response to acute inflammation or treatment inducing accelerated aging\, and by inhibiting oxidative stress-related signalling pathways in aged mice. We also demonstrated that the gut microbiota may play an important role in these effects via the gut-brain axis. In particular\, we have demonstrated an increase in bacteria favorable to cognitive health\, and a decrease in those associated with inflammation and memory impairment. Finally\, this work has enabled us to identify a pool of genes whose expression was increased during aging in the hippocampus and was negatively correlated with cognitive performance. These genes could serve as biomarkers of cognitive decline. Interestingly\, their expression was diminished by the combination of nutrients. Thus\, our study demonstrates that the combination of berry polyphenols\, bioactive saffron compounds and fish n-3 PUFAs prevents memory impairment by acting on various major neurobiological processes of aging. This multi-targeted nutritional approach has great potential for preventing age-related cognitive decline and promoting healthy aging. These results pave the way for new nutrition-based preventive strategies to combat the effects of cerebral aging. \nKeywords: aging\, nutrition\, polyphenols\, saffron\, n-3 PUFA\, memory. \nPublications\nMartin M\, Boulaire M\, Lucas C\, Peltier A\, Pourtau L\, Gaudout D\, Layé S\, Pallet V\, Joffre C\, Dinel AL.\nPlant Extracts and ω-3 Improve Short-Term Memory and Modulate the Microbiota-Gut-Brain Axis in D-galactose Model Mice.\nJ Nutr. 2024 Sep 25:S0022-3166(24)01032-0.\ndoi: 10.1016/j.tjnut.2024.09.015.\nEpub ahead of print. PMID: 39332773. \nMartin M\, Debenay E\, Bardinet J\, Peltier A\, Pourtau L\, Gaudout D\, Layé S\, Pallet V\, Dinel AL\, Joffre C.\nPlant extracts and omega-3 supplementation modulate hippocampal oxylipin profile in response to LPS-induced neuroinflammation.\nInflamm Res. 2024 Sep 28.\ndoi: 10.1007/s00011-024-01947-9.\nEpub ahead of print. PMID: 39340661. \nJury\nMme Corinne JOFFRE\, Directrice de recherche\, UMR Nutrineuro\, INRAE\, Bordeaux Directrice de thèse\nMme Aurélie DE RUS JACQUET\, Professeure adjointe\, Université Laval\, Québec\, CANADA Rapportrice\nM. Niyazi ACAR\, Directeur de recherche\, UMR CGSA\, INRAE\, Dijon Rapporteur\nMme Virginie AIRES\, Maîtresse de conférences\, Université de Bourgogne\, Dijon Examinatrice\nM. Frédéric CALON\, Professeur\, Université Laval\, Québec\, CANADA Examinateur\nMme Agnès NADJAR\, Professeure\, Université de Bordeaux\, Bordeaux Examinatrice\nMembres invités\nDr. Line POURTAU\, Responsable Recherche & Développement\, Activ’Inside\, Bordeaux Invitée\nDr. Anne-Laure DINEL\, Docteur\, ADERA\, Bordeaux Invitée \n
URL:https://www.bordeaux-neurocampus.fr/en/event/soutenance-de-these-marie-martin/
CATEGORIES:Thesis
END:VEVENT
END:VCALENDAR