BEGIN:VCALENDAR
VERSION:2.0
PRODID:-//Bordeaux Neurocampus - ECPv4.9.10//NONSGML v1.0//EN
CALSCALE:GREGORIAN
METHOD:PUBLISH
X-WR-CALNAME:Bordeaux Neurocampus
X-ORIGINAL-URL:https://www.bordeaux-neurocampus.fr/en/
X-WR-CALDESC:Events for Bordeaux Neurocampus
BEGIN:VTIMEZONE
TZID:Europe/Paris
BEGIN:DAYLIGHT
TZOFFSETFROM:+0100
TZOFFSETTO:+0200
TZNAME:CEST
DTSTART:20240331T010000
END:DAYLIGHT
BEGIN:STANDARD
TZOFFSETFROM:+0200
TZOFFSETTO:+0100
TZNAME:CET
DTSTART:20241027T010000
END:STANDARD
END:VTIMEZONE
BEGIN:VEVENT
DTSTART;TZID=Europe/Paris:20241209T120000
DTEND;TZID=Europe/Paris:20241210T180000
DTSTAMP:20260422T094516
CREATED:20240424T100433Z
LAST-MODIFIED:20241210T143737Z
UID:171153-1733745600-1733853600@www.bordeaux-neurocampus.fr
SUMMARY:Neuro-Oncology Meets Neurosciences
DESCRIPTION:Venue: Centre Broca \n\nAbstract submission for poster presentation deadline : December 1st 2024 \nAbstract submission for flash poster presentation deadline : November 15th 2024 \nAbout the conference\nGlioblastoma (GB) is the most aggressive brain tumor characterized by high proliferation rate\, core necrosis\, microvascular proliferation and tumor infiltration. GB treatment consists in tumor resection by surgery and radiotherapy plus concomitant chemotherapy with temozolomide (Stupp et al\, 2005). However\, GB still remains incurable with a low median survival rate of approx. 15 months. This is due to resistance to treatment mainly caused by the presence of tumor cells that escape tumor resection by invading the normal brain parenchyma. Recent developments in immunotherapy did not succeed in overcoming this challenge. Unfortunately\, the mechanisms underlying GB development are still not fully understood and current model systems addressing these questions are not adequate\, impeding progress for the field. It has been shown that the tumor microenvironment (TME) in GB partially controls tumor growth and invasion\, and constitutes a therapeutic target (Bikfalvi et al\, 2022). A body of recent studies points to an important role of the normal neuronal brain environment in GB progression. This meeting brings people together from both\, the neuro-oncology and neuroscience communities to highlight these new developments occurring at the interface between neuro-oncology and the neurosciences. \nProgramme / Registration\nhttps://nomn2024.sciencesconf.org/ \nRegistration deadline: December 1st 2024 \n
URL:https://www.bordeaux-neurocampus.fr/en/event/neuro-oncology-meets-neurosciences/
CATEGORIES:For scientists,home-event,Symposium
END:VEVENT
BEGIN:VEVENT
DTSTART;TZID=Europe/Paris:20241209T140000
DTEND;TZID=Europe/Paris:20241209T140000
DTSTAMP:20260422T094516
CREATED:20241107T214110Z
LAST-MODIFIED:20241119T171139Z
UID:177711-1733752800-1733752800@www.bordeaux-neurocampus.fr
SUMMARY:Thesis defense - Ana Menegolla
DESCRIPTION:Venue: CARF \nZoom:  https://u-bordeaux-fr.zoom.us/j/411548697\nMeeting ID: 411 548 6972 \n\nTitle\nDifferential contribution of distinct prefrontal neuronal populations to danger representations \nAbstract\nAnimals can be confronted to a high diversity of dangerous situations in natural environments. Their ability to be in a vigilant state about their surroundings\, prepared to recognize and respond to danger\, as well as to recognize sensory stimuli associated to specific threats\, allows the expression of optimal behavioral responses to successfully cope with them. Dysfunctions in the response to threats are implicated in various psychiatric conditions such as anxiety disorders\, phobias\, or post-traumatic stress disorder. Thus\, understanding the neural mechanisms underlying defensive behaviors is essential to unravel the neuronal bases of these severe conditions. Defensive behaviors are shaped by multiple interconnected brain regions. Among them\, the prefrontal cortex (PFC)\, a site involved in the multimodal integration of stimuli and top-down control of complex behaviors\, has largely been evidenced as a key regulator of defensive responses. Most of what is known about the implication of the PFC in defensive behaviors has been based on fear conditioning paradigms in which one single sensory stimulus drives the concomitant expression of a single defensive behavior (e.g. freezing or avoidance). Such simple paradigms make it difficult to pinpoint the exact processes PFC neurons are involved in (identification or discrimination of threatening stimuli\, implementation of an aversive state or execution of a defensive response) and how specific their activity is. Moreover\, the literature is focused on the function of the largest cell group of the dorsomedial PFC (dmPFC) – excitatory pyramidal neurons (Pyr) – or mixed neuronal populations. Nonetheless\, Pyr activity is extensively orchestrated by a heterogeneous network of GABAergic interneurons (INs)\, among which Somatostatin-expressing (SST+) and Parvalbumin-expressing (PV+) neurons are the most abundant types. A limited body of evidence shows the critical role of dmPFC INs in the formation of an aversive memory and defensive freezing expression. Thus\, a more comprehensive view of how dmPFC neurons\, especially INs\, process threatening information is still missing and would require more complex settings. In this work\, we sought to determine the role of the main dmPFC neuronal populations (Pyr\, SST+ and PV+ neurons) in the encoding of defensive states and specific threatening features to ultimately control the expression of defensive behaviors. To this end\, we combined cell-type specific in vivo calcium imaging and optogenetic manipulations of the dmPFC with a novel behavioral paradigm in which mice face different threatening situations and must select the most pertinent defensive behavior to each of them in order to avoid an aversive outcome. We demonstrated that each of the studied neuronal populations encode threat-related information differently. The populations of excitatory neurons and SST+ INs have well-differentiated representations of threatening and non-threatening conditions. In addition\, the SST+ population discriminates specific threatening information\, a process that was necessary for the selection of appropriate defensive behaviors. In contrast\, the population activity of PV+ INs encoded in a more unspecific manner the presence of task stimuli regardless of their emotional value and was essential for mice to overall respond to threats. Together\, these data suggest the presence of a gradient of representations of threatening events – from more general to more specific – in different dmPFC neuronal populations\, allowing a collective encoding of danger. \nKeywords: Prefrontal cortex\, interneurons\, defensive behaviors\, danger\, calcium imaging \nJury\nM. François GEORGES – Directeur de recherche\, IMN\, Bordeaux – president\nMme Nadine GOGOLLA – Directrice de recherche\, Max Planck Institute of Psychiatry\, Munich – rapportrice\nM. Philip TOVOTE – Professor\, Institute of Clinical Neurobiology\, Würzburg – rapporteur\nM. Antoine BESNARD – CRCN\, Institut de Génomique Fonctionnelle\, Montpellier – examinateur\nMme Lisa ROUX – Chargée de recherche\, IINS\, Bordeaux – examinatrice \nPublications\nMenegolla AP\, Lopez-Fernandez G\, Herry C\, Martin-Fernandez M. Differential contribution of distinct neuronal populations to danger representations. bioRxiv 2024.01.24.577067. doi: 10.1101/2024.01.24.577067\nMartin-Fernandez M\, Menegolla AP\, Lopez-Fernandez G\, Winke N\, Jercog D\, Kim HR\, Girard D\, Dejean C\, Herry C. Prefrontal circuits encode both general danger and specific threat representations. Nat Neurosci. 2023 Dec;26(12):2147-2157. doi: 10.1038/s41593-023-01472-8 \n
URL:https://www.bordeaux-neurocampus.fr/en/event/thesis-defense-ana-menegolla/
CATEGORIES:Thesis
END:VEVENT
END:VCALENDAR