BEGIN:VCALENDAR
VERSION:2.0
PRODID:-//Bordeaux Neurocampus - ECPv4.9.10//NONSGML v1.0//EN
CALSCALE:GREGORIAN
METHOD:PUBLISH
X-WR-CALNAME:Bordeaux Neurocampus
X-ORIGINAL-URL:https://www.bordeaux-neurocampus.fr/en/
X-WR-CALDESC:Events for Bordeaux Neurocampus
BEGIN:VTIMEZONE
TZID:Europe/Paris
BEGIN:DAYLIGHT
TZOFFSETFROM:+0100
TZOFFSETTO:+0200
TZNAME:CEST
DTSTART:20240331T010000
END:DAYLIGHT
BEGIN:STANDARD
TZOFFSETFROM:+0200
TZOFFSETTO:+0100
TZNAME:CET
DTSTART:20241027T010000
END:STANDARD
END:VTIMEZONE
BEGIN:VEVENT
DTSTART;VALUE=DATE:20241118
DTEND;VALUE=DATE:20241206
DTSTAMP:20260422T094413
CREATED:20240123T171300Z
LAST-MODIFIED:20241128T174623Z
UID:167247-1731888000-1733443199@www.bordeaux-neurocampus.fr
SUMMARY:Cajal lectures - Movement and motor control in health and disease
DESCRIPTION:The Brain Prize Course \nLectures are open to everyone. \nVenue: CARF \n\nNovember 18 – 11:00am\nSilvia Arber (Basel University\, Switzerland)\nDisentangling brainstem circuits for body movement. \nNovember 19 – 9:00am\nDavid McLean (University of Edinburgh\, UK)\nSizing up principles of recruitment during locomotion in zebrafish. \nNovember 20 – 9:00am\nSamuel Sober (Emory University\, USA)\nSpiking codes for skilled motor control. \nNovember 20 – 11:00am\nClaire Wyart (Paris Brain Institute\, France)\nOptical innovations to probe connectivity and functions of sensorimotor circuits of the brainstem and spinal cord. \nNovember 25 – 9:00am\nLora Sweeney (Institute of Science and Technology\, Austria)\nEvolution and development of swim versus limb motor circuits. \nNovember 25 – 11:00am\nJonathan Whitlock (KISN\, Norway)\nCortical integration of posture and active sensing in freely moving animals. \nNovember 28 – 9:00am\nCamille Jeunet (Bordeaux University\, France)\nBCI-based neurofeedback training procedures to restore or improve motor skills: a user-centred approach. \nNovember 28 – 11:00am\nMarie-Laure Welter (Paris Brain Institute\, France)\nUnderstanding Gait and Balance Disorders in Parkinson’s Disease: The Role of Basal Ganglia and Mesencephalic Locomotor Region Dysfunction. \nNovember 29 – 9:00am\nNicolas Mallet (Bordeaux University\, France)\nAbnormal Network Dynamics in Basal ganglia circuits during Parkinsonism: Origins and pathophysiological insights. \nDecember 2 – 9:00am\n Claire Meehan (University of Copenhagen\, Denmark)\nProbing intrinsic motoneurone excitability from mice to human. \nDecember 2 – 11:00am\nGilad Silberberg (Karolinska Institute\, Sweden)\nStriatal circuits underlying sensorimotor functions. \nDecember 3 – 9:00am\nIan Duguid (University of Edinburgh\, UK)\nNeural circuits for executing task-specific movements. \nDecember 3 – 11:00am\nRune Berg (University of Copenhagen\, Denmark)\nControl of movement by spinal circuitry: Model and population recordings. \nDecember 5 – 9:00am\nJoaquim Da Silva (Champalimaud CU\, Portugal)\nDirect and indirect pathway dynamics in dystonia. \nDecember 5 – 11:00am\nOle Kiehn (University of Copenhagen\, Denmark)\nUnraveling Brainstem Circuits for Movement: Insights into Motor Control and Implications for Treatment of Movement Disorders. \nMore details about the course\nWebsite: https://cajal-training.org/on-site/movement-and-motor-control-in-health-and-disease/ \n
URL:https://www.bordeaux-neurocampus.fr/en/event/cajal-lectures-the-brain-prize-course-movement-and-motor-control-in-health-and-disease/
CATEGORIES:Cajal Lectures,For scientists,home-event
ATTACH;FMTTYPE=image/jpeg:https://www.bordeaux-neurocampus.fr/wp-content/uploads/2024/06/MMCHD_background-scaled-1.jpg
END:VEVENT
BEGIN:VEVENT
DTSTART;TZID=Europe/Paris:20241129T090000
DTEND;TZID=Europe/Paris:20241129T120000
DTSTAMP:20260422T094413
CREATED:20241118T094708Z
LAST-MODIFIED:20241118T095027Z
UID:177689-1732870800-1732881600@www.bordeaux-neurocampus.fr
SUMMARY:GPR-LIGHT mini-symposium Advanced Imaging Techniques to Study the Cytoskeleton
DESCRIPTION:Venue: Bordeaux Biologie Santé (BBS) \nProgram\n9:00 – 9:45: Christophe Leterrier\, NeuroCyto Lab (Marseille): ‘The axonal cytoskeleton down to the nanoscale’ \n9:45 – 10:30: Nils Gauthier\, Institute FRIC Molecular Oncology (Milan) : ‘Ghost buster’ \n10:30 – 11:15: Francesca Pennacchietti\, KTH Royal Institute of Technology (Stockholm): ‘Exploring photocontrollable fluorescent proteins for live-cell nanoscopy’ \n11:15 – 12:00: Marina Mikhaylova\, Institute of Biology\, Humboldt Universität zu Berlin (Berlin): ‘Unveiling the cell biology of neurons with dendritic axons’ \nOrganized by\n\nGrégory Giannone (IINS)\nAnna Brachet (IINS)\nBrahim Lounis (Institut d’Optic)\n\n
URL:https://www.bordeaux-neurocampus.fr/en/event/gpr-light-mini-symposium-advanced-imaging-techniques-to-study-the-cytoskeleton/
CATEGORIES:For scientists,home-event,Symposium
ATTACH;FMTTYPE=image/png:https://www.bordeaux-neurocampus.fr/wp-content/uploads/2024/11/ExPAINT.png
END:VEVENT
BEGIN:VEVENT
DTSTART;TZID=Europe/Paris:20241129T110000
DTEND;TZID=Europe/Paris:20241129T110000
DTSTAMP:20260422T094413
CREATED:20241121T135340Z
LAST-MODIFIED:20250414T140737Z
UID:177830-1732878000-1732878000@www.bordeaux-neurocampus.fr
SUMMARY:IBIO/RRI IMPACT seminar - Nabila Brihmat
DESCRIPTION:Venue: IBIO \n\nNabila Brihmat\nPost doctoral researcher at IMN \n \n  \n  \n
URL:https://www.bordeaux-neurocampus.fr/en/event/ibio-rri-impact-seminar-nabila-brihmat/
CATEGORIES:For scientists,home-event,IMN,Impromptu seminar,Other events
END:VEVENT
END:VCALENDAR