BEGIN:VCALENDAR
VERSION:2.0
PRODID:-//Bordeaux Neurocampus - ECPv4.9.10//NONSGML v1.0//EN
CALSCALE:GREGORIAN
METHOD:PUBLISH
X-WR-CALNAME:Bordeaux Neurocampus
X-ORIGINAL-URL:https://www.bordeaux-neurocampus.fr/en/
X-WR-CALDESC:Events for Bordeaux Neurocampus
BEGIN:VTIMEZONE
TZID:Europe/Paris
BEGIN:DAYLIGHT
TZOFFSETFROM:+0100
TZOFFSETTO:+0200
TZNAME:CEST
DTSTART:20230326T010000
END:DAYLIGHT
BEGIN:STANDARD
TZOFFSETFROM:+0200
TZOFFSETTO:+0100
TZNAME:CET
DTSTART:20231029T010000
END:STANDARD
BEGIN:DAYLIGHT
TZOFFSETFROM:+0100
TZOFFSETTO:+0200
TZNAME:CEST
DTSTART:20240331T010000
END:DAYLIGHT
BEGIN:STANDARD
TZOFFSETFROM:+0200
TZOFFSETTO:+0100
TZNAME:CET
DTSTART:20241027T010000
END:STANDARD
END:VTIMEZONE
BEGIN:VEVENT
DTSTART;VALUE=DATE:20230916
DTEND;VALUE=DATE:20240617
DTSTAMP:20260423T002715
CREATED:20230831T131841Z
LAST-MODIFIED:20240529T183442Z
UID:162245-1694822400-1718582399@www.bordeaux-neurocampus.fr
SUMMARY:Exposition : Cervorama
DESCRIPTION:Agitez vos neurones ! \nA travers cette exposition\, Cap Sciences propose aux visiteurs de découvrir le cerveau sous toutes ses formes lors d’une visite ponctuée de manipulations\, de jeux et d’expériences… Ils pourront notamment explorer les mondes des cerveaux de l’escargot\, l’abeille\, le singe et l’homme\, tester leur mémoire dans le “cognitilab”\, découvrir leur cerveau en 3D grâce au cervomaton ou encore analyser les capacités des animaux ! \nUne exposition conçue et réalisée par Cap Sciences en partenariat avec Bordeaux Neurocampus\n \nEn savoir plus\nSite web : https://www.cap-sciences.net/au-programme/exposition/grand-public/cervorama/ \n
URL:https://www.bordeaux-neurocampus.fr/en/event/exposition-cervorama/
CATEGORIES:Events for all,not-calendar,pour tous homepage,Semaine du cerveau 2024
END:VEVENT
BEGIN:VEVENT
DTSTART;TZID=Europe/Paris:20240320T090000
DTEND;TZID=Europe/Paris:20240320T130000
DTSTAMP:20260423T002715
CREATED:20240221T212844Z
LAST-MODIFIED:20240318T093454Z
UID:168354-1710925200-1710939600@www.bordeaux-neurocampus.fr
SUMMARY:Inscopix Day
DESCRIPTION:Venue: BBS \nBreakfast included! \nProgram:\n. Inscopix tech review\n. Live Demo of Inscopix Imaging platform\n. Overiew of inscopix data processing and cloud-bases analyses with ideas \nOn registration\nhttps://info.inscopix.com/inscopix-demonstration-day-at-bordeaux-neurocampus-on-march-20-2024 \n\n \n
URL:https://www.bordeaux-neurocampus.fr/en/event/inscopix-day/
CATEGORIES:For scientists,home-event,Industrial seminar or booth
END:VEVENT
BEGIN:VEVENT
DTSTART;TZID=Europe/Paris:20240320T113000
DTEND;TZID=Europe/Paris:20240320T113000
DTSTAMP:20260423T002715
CREATED:20240301T171906Z
LAST-MODIFIED:20240312T145952Z
UID:168991-1710934200-1710934200@www.bordeaux-neurocampus.fr
SUMMARY:Seminar - Yoshihisa Tachibana
DESCRIPTION:Venue: Centre Broca \n  \n\nYoshihisa Tachibana\nKobe University\, Japan \nInvited by Thomas Boraud (IMN) \nTitle\nMovement disorders: the imbalance between hyperdirect and direct pathways in the basal ganglia \nAbstract\nThe basal ganglia (BG) play a crucial role in motor control\, with the subthalamic nucleus (STN) and the striatum (Str) serving as major input stations receiving signals from a wide variety of cortical areas. These structures project to the output nuclei of the BG\, the internal segment of the globus pallidus (GPi) and the sunstantia nigra pars reticulata (SNr)\, forming the cortico-STN-GPi/SNr “hyperdirect” pathway and the cortico-Str-GPi/SNr “direct” pathway. This seminar explores the hypothesis that the execution of motor actions is highly sophisticated when information processing via the hyperdirect and direct pathways is well-balanced. First\, I will summarize the primate models of hyperkinetic disorder\, specifically hemiballism\, and hypokinetic disorder\, exemplified by Parkinson’s disease. Insights into abnormal neuronal processing in cortico-BG circuits are discussed to enhance our understanding of the pathophysiology underlying these disorders. Additionally\, I also demonstrate our recent findings from a mouse tic model\, shedding light on the pathophysiology of tic disorders. I finally propose the functional role of the external segment of the globus pallidus (GPe) in motor control. Specifically\, I would like to suggest that the GPe may play a crucial role in balancing the “hyperdirect” and “direct” pathways\, contributing to the coordination of motor actions. \n
URL:https://www.bordeaux-neurocampus.fr/en/event/impromptu-seminar-yoshihisa-tachibana/
CATEGORIES:For scientists,home-event,Impromptu seminar
END:VEVENT
BEGIN:VEVENT
DTSTART;TZID=Europe/Paris:20240320T120000
DTEND;TZID=Europe/Paris:20240320T120000
DTSTAMP:20260423T002715
CREATED:20240318T145252Z
LAST-MODIFIED:20240320T155613Z
UID:170137-1710936000-1710936000@www.bordeaux-neurocampus.fr
SUMMARY:Parity Journal Club
DESCRIPTION:Zoom link: Journal Club Gender Equity @ Paris Brain Institute\nhttps://icm-institute.zoom.us/j/97645478755  \n\nTal Seidel from Nancy will present the following study:\nExploring Gender Bias in Six Key Domains of Academic Science: An Adversarial Collaboration \nCeci SJ\, Kahn S\, Williams WM\nPsychol. Sci. Public Interest\, 2023\nhttps://paperpile.com/app/p/9bba98e9-c6bf-0070-98b9-62578d526ad9\nTo access all our bibliography here is the zotero link:\nhttps://www.zotero.org/groups/5024598/gender_equity_icm \nIt currently is a closed group so you need to request membership to contribute\, but access is open \n
URL:https://www.bordeaux-neurocampus.fr/en/event/parity-journal-club/
CATEGORIES:For scientists,home-event,Impromptu seminar
END:VEVENT
BEGIN:VEVENT
DTSTART;TZID=Europe/Paris:20240320T170000
DTEND;TZID=Europe/Paris:20240320T183000
DTSTAMP:20260423T002715
CREATED:20240315T170206Z
LAST-MODIFIED:20240318T090149Z
UID:170095-1710954000-1710959400@www.bordeaux-neurocampus.fr
SUMMARY:SBM Career seminar - Treefrog
DESCRIPTION:\nVenue: Salle de réunion Sud\, bâtiment BBS\, Campus Carreire. \n\nFor their 9th career seminar about “R&D in the private sector”\, the group SBM’s Young (students of the Department “Sciences biologiques et médicales”) has the pleasure to welcome Kévin Alessandri\, Lucia Espinoza and Nadège Pujol\, who are respectively co-founder\, scientist and technician at TreeFrog Therapeutics. \n\n\nTreeFrog Therapeutics is a biotech company based in Bordeaux that aims to unlock cell therapies for millions of patients suffering from Parkinson’s or Alzheimer’s disease for example. \n\n\nThe speakers will present to you their academic and professionnal background\, as well as their curent position. \nBetween each presentation\, time will be dedicated to questions so that each speaker can share their experience and advices to students. \n\n\nMore information >> \n\n
URL:https://www.bordeaux-neurocampus.fr/en/event/sbm-career-seminar-treefrog/
CATEGORIES:For scientists,home-event,Other events
END:VEVENT
END:VCALENDAR