BEGIN:VCALENDAR
VERSION:2.0
PRODID:-//Bordeaux Neurocampus - ECPv4.9.10//NONSGML v1.0//EN
CALSCALE:GREGORIAN
METHOD:PUBLISH
X-WR-CALNAME:Bordeaux Neurocampus
X-ORIGINAL-URL:https://www.bordeaux-neurocampus.fr/en/
X-WR-CALDESC:Events for Bordeaux Neurocampus
BEGIN:VTIMEZONE
TZID:Europe/Paris
BEGIN:DAYLIGHT
TZOFFSETFROM:+0100
TZOFFSETTO:+0200
TZNAME:CEST
DTSTART:20230326T010000
END:DAYLIGHT
BEGIN:STANDARD
TZOFFSETFROM:+0200
TZOFFSETTO:+0100
TZNAME:CET
DTSTART:20231029T010000
END:STANDARD
BEGIN:DAYLIGHT
TZOFFSETFROM:+0100
TZOFFSETTO:+0200
TZNAME:CEST
DTSTART:20240331T010000
END:DAYLIGHT
BEGIN:STANDARD
TZOFFSETFROM:+0200
TZOFFSETTO:+0100
TZNAME:CET
DTSTART:20241027T010000
END:STANDARD
END:VTIMEZONE
BEGIN:VEVENT
DTSTART;VALUE=DATE:20230916
DTEND;VALUE=DATE:20240617
DTSTAMP:20260423T023153
CREATED:20230831T131841Z
LAST-MODIFIED:20240529T183442Z
UID:162245-1694822400-1718582399@www.bordeaux-neurocampus.fr
SUMMARY:Exposition : Cervorama
DESCRIPTION:Agitez vos neurones ! \nA travers cette exposition\, Cap Sciences propose aux visiteurs de découvrir le cerveau sous toutes ses formes lors d’une visite ponctuée de manipulations\, de jeux et d’expériences… Ils pourront notamment explorer les mondes des cerveaux de l’escargot\, l’abeille\, le singe et l’homme\, tester leur mémoire dans le “cognitilab”\, découvrir leur cerveau en 3D grâce au cervomaton ou encore analyser les capacités des animaux ! \nUne exposition conçue et réalisée par Cap Sciences en partenariat avec Bordeaux Neurocampus\n \nEn savoir plus\nSite web : https://www.cap-sciences.net/au-programme/exposition/grand-public/cervorama/ \n
URL:https://www.bordeaux-neurocampus.fr/en/event/exposition-cervorama/
CATEGORIES:Events for all,not-calendar,pour tous homepage,Semaine du cerveau 2024
END:VEVENT
BEGIN:VEVENT
DTSTART;VALUE=DATE:20240212
DTEND;VALUE=DATE:20240217
DTSTAMP:20260423T023153
CREATED:20240206T211909Z
LAST-MODIFIED:20240206T223841Z
UID:167750-1707696000-1708127999@www.bordeaux-neurocampus.fr
SUMMARY:Les rendez-vous de la Biologie
DESCRIPTION:Lieu : Amphi Darwin – Bâtiment A22\, campus Peixotto \n\nUne semaine pour les étudiants en licence de biologie et dédiée à la poursuite d’études et la découverte des métiers accessibles. Conférences\, discussions\, témoignages\, rencontres\, sont au programme. \nUn évènement co-organisé par :\nl’UF de Biologie\, l’Association des Étudiants en Biochimie et en Biologie Cellulaire de Bordeaux (AEBBCB) et l’Association Doctorants et Docteurs en Biologie de Bordeaux (2D2B) \nLundi 12 février\, 12h30 – 13h30   \n\nInfluence de la nutrition sur le cerveau \nConférence inaugurale scientifique d’Agnès Nadjar\,  professeure de Neurosciences\, Neurocentre Magendie\n\nMardi 13 février\n\n12h30 – 13h30 : Présentations de “Ma thèse en 180 secondes” suivies d’une discussion avec des doctorants\nLéa BONAMY\, doctorante en neurosciences​​​​​​​\nDiane POTARD\, docteur en neurosciences et fondatrice société CAMATISS​​​​​​​\nMargaux LEBOUC\, doctorante en neurosciences\n19h à 20h30 : soirée de présentation des formations de Master en biologie de Bordeaux par l’AEBBCB\n\nMercredi 14 février\, 12h30 – 13h30\n\nIntervention d’anciens diplômés \nJulien GAITAN\, Assistant Ingénieur\, équipe Biologie Cellulaire & Biocapteurs d’institut CBMN​​​​​​​\nMarlène MAITRE\, responsable de la plateforme Microdissection Laser au Neurocentre Magendie\n\nJeudi 15 février\, 12h30 – 13h30\n\nRetour d’expériences et témoignages de diplômés employés du secteur privé​​​​​​​\nMathieu MALE\, responsable de production chez Naolys ​​​​​​​\nChristophe REY\, Ingénieur de Recherche chez Immusmol/Explicyte\n\nVendredi 16 février\, 12h30 – 13h30\n\nSpeed dating : rencontres/discussions libres avec une quinzaine d’intervenants\, anciens étudiants en biologie et actuellement en poste dans le domaine de la biologie dans différents secteurs du public et du privé\n\n
URL:https://www.bordeaux-neurocampus.fr/en/event/les-rendez-vous-de-la-biologie/
CATEGORIES:Events for all,home-event
END:VEVENT
BEGIN:VEVENT
DTSTART;TZID=Europe/Paris:20240215T170000
DTEND;TZID=Europe/Paris:20240215T183000
DTSTAMP:20260423T023153
CREATED:20240124T120236Z
LAST-MODIFIED:20240124T150803Z
UID:167230-1708016400-1708021800@www.bordeaux-neurocampus.fr
SUMMARY:Battle "IA : la recherche sans chercheur\, la médecine sans clinicien ?"
DESCRIPTION:ENSTBB\, Campus Carreire\n(à côté de l’entrée rue Bethmann) \n\nLe groupe SBM’s Young organise sa 5ème Battle scientifique qui aura lieu le jeudi 15 février 2024 à l’ENSTBB de 17h à 18h30 sur le thème : “IA : la recherche sans chercheur\, la médecine sans clinicien ?” – Inscription gratuite mais obligatoire \n\nAvec :  \n\nYanis ASLOUDJ – LaBRI\nMaialen ARRIETA LOBO – IBGC\nAlicia DEFAY-STINAT – MRGM\nJohanna GALVIS – IBGC\nChloé AVRIL – ImmunoConcept\nGauthier DELROT – IBGC\nDamien BRISOU – ImmunoConcept\n\n\n– Introduction par Fridolin Gross (ImmunoConcept) \n– Coaching scientifique par Aurélien Bustin (CHU de Bordeaux) et Frédéric Alexandre (LaBRI) \n– Coaching débat et prise de parole par Delphine Charles (Université de Bordeaux) et Voix Publique \n– Grands témoins : Marie Coris (Bordeaux Sciences Economiques) et François Clautiaux (Institut de Mathématiques de Bordeaux) \n– Animation par Alexandra Moisand (ImmunoConcept) et Célia Bourguignon (BMC) \n\nInscription\nhttps://sbm.u-bordeaux.fr/evenements/battle-ia-la-recherche-sans-chercheur-la-medecine-sans-clinicien \n\n
URL:https://www.bordeaux-neurocampus.fr/en/event/battle-ia-la-recherche-sans-chercheur-la-medecine-sans-clinicien/
CATEGORIES:For scientists,home-event,Société
END:VEVENT
END:VCALENDAR