BEGIN:VCALENDAR
VERSION:2.0
PRODID:-//Bordeaux Neurocampus - ECPv4.9.10//NONSGML v1.0//EN
CALSCALE:GREGORIAN
METHOD:PUBLISH
X-WR-CALNAME:Bordeaux Neurocampus
X-ORIGINAL-URL:https://www.bordeaux-neurocampus.fr/en/
X-WR-CALDESC:Events for Bordeaux Neurocampus
BEGIN:VTIMEZONE
TZID:Europe/Paris
BEGIN:DAYLIGHT
TZOFFSETFROM:+0100
TZOFFSETTO:+0200
TZNAME:CEST
DTSTART:20220327T010000
END:DAYLIGHT
BEGIN:STANDARD
TZOFFSETFROM:+0200
TZOFFSETTO:+0100
TZNAME:CET
DTSTART:20221030T010000
END:STANDARD
BEGIN:DAYLIGHT
TZOFFSETFROM:+0100
TZOFFSETTO:+0200
TZNAME:CEST
DTSTART:20230326T010000
END:DAYLIGHT
BEGIN:STANDARD
TZOFFSETFROM:+0200
TZOFFSETTO:+0100
TZNAME:CET
DTSTART:20231029T010000
END:STANDARD
END:VTIMEZONE
BEGIN:VEVENT
DTSTART;VALUE=DATE:20221219
DTEND;VALUE=DATE:20230619
DTSTAMP:20260423T181614
CREATED:20221215T174158Z
LAST-MODIFIED:20230214T143012Z
UID:153788-1671408000-1687132799@www.bordeaux-neurocampus.fr
SUMMARY:Exposition: Illusions
DESCRIPTION:Lieu : Cap Siences \n\n\n\nEt si le cerveau était un véritable terrain de jeu… Qu’est-ce qu’une illusion ? Comment et pourquoi sommes-nous trompés ? \n\n\n\n\nSi l’illusion naît de nos sens\, elle s’élabore dans le cerveau. Nous voyons\, entendons\, touchons « avec notre cerveau ». Une perception est rarement uni-sensorielle. Plusieurs sens se combinent pour produire une interprétation du monde qui nous entoure : c’est le rôle du cerveau de produire du sens. Il utilise le passé pour s’adapter au présent et dans de nombreux cas compenser le manque d’informations dont il dispose. \nLe cerveau Il tient compte de ce qu’il “sent”\, mais aussi de ce qu’il sait déjà\, de ce que nous avons vécu\, mémorisé. Ce qui nous rend bien des services au quotidien pour prendre des décisions et réagir rapidement ! Mais aussi sophistiqué soit-il\, cet outil peut cependant être trompé par certaines situations… \nCette exposition\, propose une approche interactive à la découverte de nos sens et de nos perceptions. Les manipulations\, des plus simples aux plus impressionnantes troublent les perceptions dans une expérience déroutante. \n\n\n\n\nLe cerveau devient alors un terrain de jeu : Alors\, prêts pour une nouvelle expérience de la réalité ? \n  \n\n\n
URL:https://www.bordeaux-neurocampus.fr/en/event/exposition-illusions/
CATEGORIES:Events for all,not-calendar,Semaine du cerveau 2023
END:VEVENT
BEGIN:VEVENT
DTSTART;VALUE=DATE:20230615
DTEND;VALUE=DATE:20230616
DTSTAMP:20260423T181614
CREATED:20230515T155602Z
LAST-MODIFIED:20230612T123232Z
UID:160056-1686787200-1686873599@www.bordeaux-neurocampus.fr
SUMMARY:Symposium NBA
DESCRIPTION:L’association des étudiants en neurosciences vous invite à la 7ème édition de son symposium annuel qui se déroulera ce Jeudi 15 Juin de 9h à 16h. \nLa journée se poursuivra le soir avec le gala de la NBA. \n9:00-9:30\nWelcome Coffee \n9:30-10:00\nInfluence of temporal origin on the dendritic spine and synapse properties of granule neurons in the mouse hippocampal dentate gyrus (Vasika VENUGOPAL – M2 – Magendie) \n10:00-10:30\nValidation of a new viral tool for specific manipulation of parvalbumin neurons activity in the Tg2576 mouse model of Alzheimer’s disease (Edouard GRENOT – M2 – Centre de Recherche sur la Cognition Animale) \n10:30-11:00\nCoffee break\n11:00-11:30\nCharacterization of synaptic activity and plasticity in the hippocampus after cortical stroke (Tatiana DUPAK – M1 – Magendie) \n11:30-12:00\nPrimary somatosensory cortex implication in the peripersonal space construction with a medio-lateral axis integration (Sarah MAQUAREZ – M1 – IINS) \n12:00-13:30\nLunch \n13:30-14:00\nPosters\n14:00-14:30\nRôle des hétérodimères de récepteurs dopaminergiques et glutamatergiques NMDA dans la flexibilité comportementale et l’activité des neurones dopaminoceptifs du cortex préfrontal (Maewenn CAZALA – M2 – NutriNeuro) \n14:30-15:00\nImpact des oméga-3 sur le déclin cognitif chez le sujet âgé (Mael CAUCHOIS – M2 – NutriNeuro) \n15:00-15:30\nFunctional mapping of hypothalamic POMC neurons in obesity (Jean- Charles NICOLAS – M2 – Magendie) \n15:30-16:00\nCoffee and vote \n  \n  \n
URL:https://www.bordeaux-neurocampus.fr/en/event/symposium-nba-2023/
CATEGORIES:For scientists,Symposium
ATTACH;FMTTYPE=image/jpeg:https://www.bordeaux-neurocampus.fr/wp-content/uploads/2018/11/logo-NBA-vignette.jpg
END:VEVENT
END:VCALENDAR