BEGIN:VCALENDAR
VERSION:2.0
PRODID:-//Bordeaux Neurocampus - ECPv4.9.10//NONSGML v1.0//EN
CALSCALE:GREGORIAN
METHOD:PUBLISH
X-WR-CALNAME:Bordeaux Neurocampus
X-ORIGINAL-URL:https://www.bordeaux-neurocampus.fr/en/
X-WR-CALDESC:Events for Bordeaux Neurocampus
BEGIN:VTIMEZONE
TZID:Europe/Paris
BEGIN:DAYLIGHT
TZOFFSETFROM:+0100
TZOFFSETTO:+0200
TZNAME:CEST
DTSTART:20220327T010000
END:DAYLIGHT
BEGIN:STANDARD
TZOFFSETFROM:+0200
TZOFFSETTO:+0100
TZNAME:CET
DTSTART:20221030T010000
END:STANDARD
BEGIN:DAYLIGHT
TZOFFSETFROM:+0100
TZOFFSETTO:+0200
TZNAME:CEST
DTSTART:20230326T010000
END:DAYLIGHT
BEGIN:STANDARD
TZOFFSETFROM:+0200
TZOFFSETTO:+0100
TZNAME:CET
DTSTART:20231029T010000
END:STANDARD
END:VTIMEZONE
BEGIN:VEVENT
DTSTART;VALUE=DATE:20220211
DTEND;VALUE=DATE:20230103
DTSTAMP:20260422T104032
CREATED:20220209T143152Z
LAST-MODIFIED:20220209T143152Z
UID:144934-1644537600-1672703999@www.bordeaux-neurocampus.fr
SUMMARY:Exposition : "Cell Immersion"
DESCRIPTION:Les Bassins des Lumières – Imp. Brown de Colstoun\, Bordeaux \n\nCell Immersion vous convie à un voyage Art & Science dans un monde microscopique méconnu : l’humain. \nL’œuvre est la première brique d’un projet d’envergure\, nommé Cell Worlds\, qui amène les images de microscopie là où elles ne sont jamais allées. Loin des laboratoires et des disques durs des scientifiques et au plus près des cellules humaines. Ici\, tout est bien réel\, et surtout vivant. Chaque visuel de l’exposition se compose de véritables cellules : de l’électrisant neurone au fragile embryon en passant par les mélancoliques flux sanguins du cerveau. Découvrez un univers aux couleurs chatoyantes et d’une diversité incroyable. \nCell Immersion est une première mondiale scientifique\, mettant en scène le vivant microscopique dans des proportions jamais tentées. C’est également un des plus grands showcases de la recherche scientifique\, regroupant de nombreuses équipes\, laboratoires et instituts du monde entier. Une preuve que la science et l’art n’ont pas de frontières. \nÀ travers l’émerveillement\, ce voyage saura éveiller votre curiosité scientifique. Au-delà du simple divertissement\, Cell Immersion vous invite à vous reconnecter avec le monde vivant microscopique qui est aujourd’hui trop inconnu\, trop peu contemplé et parfois trop mystifié. \n  \n\nRéalisation : Terence Saulnier et Renaud Pourpre \nComposition de la bande originale : Youenn Lerb \n\nCet événement est organisé dans le cadre de la Semaine du Cerveau. \nPour plus d’informations : https://www.bassins-lumieres.com/fr/cell-immersion \n
URL:https://www.bordeaux-neurocampus.fr/en/event/exposition-cell-immersion/
LOCATION:Les Bassins des Lumières\, Imp. Brown de Colstoun\, Bordeaux\, 33000\, France
CATEGORIES:not-calendar,Semaine du cerveau 2022
END:VEVENT
BEGIN:VEVENT
DTSTART;VALUE=DATE:20221109
DTEND;VALUE=DATE:20221126
DTSTAMP:20260422T104032
CREATED:20221116T211946Z
LAST-MODIFIED:20221116T211946Z
UID:152812-1667952000-1669420799@www.bordeaux-neurocampus.fr
SUMMARY:Exposition d’aquarelles par Lorena Delgado Zabalza
DESCRIPTION:\nLorena Delgado Zabalza\, post-doctorante dans l’équipe « Dopamine et assemblées neuronales » dirigée par Jerôme Baufreton et François Georges\, exposera ses aquarelles à partir du mercredi 9 novembre 2022\, jusqu’au 25 novembre. \nLes membres de l’IMN ont déjà pu admirer ton travail à l’occasion du symposium de l’institut. \nL’aquarelle originale de l’oeuvre ci-contre sera bientôt exposée au Musée des Sciences de Navarre en Espagne dans le cadre d’une exposition Art et Science : un regard féminin.\nVoici le lien: https://sciencemuseum.unav.edu/activities/science-weeks/exposicion-arte-y-ciencia-una-mirada-femenina \n\n
URL:https://www.bordeaux-neurocampus.fr/en/event/exposition-daquarelles-par-lorena-delgado-zabalza/
CATEGORIES:home-event
END:VEVENT
BEGIN:VEVENT
DTSTART;TZID=Europe/Paris:20221114T110000
DTEND;TZID=Europe/Paris:20221114T110000
DTSTAMP:20260422T104032
CREATED:20221018T115136Z
LAST-MODIFIED:20221018T121113Z
UID:151507-1668423600-1668423600@www.bordeaux-neurocampus.fr
SUMMARY:Seminar - Barbara Smith
DESCRIPTION:Barbara S. Smith\, Ph.D.Associate Professor\nBiomedical Engineering School of Biological and Health Systems EngineeringArizona State University \nTitle\nEngineering Multiscale Imaging Technologies to Characterize Disease States: From Organs to Individual Cells \nAbstract\nThe ability to image at depth in biological tissue is critically important to diagnose and characterize disease states. Current approaches for biological imaging often leverage the use of confocal or 2–photon systems to accomplish high resolution imaging at increased depth. These tools are often used in combination with contrast agents including nanoparticles\, organic dyes\, and genetic reporters. Despite recent advancements\, however\, current optical techniques remain restricted to an imaging depth of ~1mm due to the scattering of light in tissues. To circumvent limitations in depth\, the Smith lab integrates waveguides into clinical and research tools to provide new methods of cellular subtyping and tissue imaging capabilities. This talk will highlight a series of optical and photoacoustic imaging tools that have been developed in Dr. Smith’s lab to address the urgent need for non–invasive cancer detection and the characterization of neurological disorders\, beyond current capabilities. \nBiosketch\nBarbara Smith is an Associate Professor in the School of Biological and Health Systems Engineering at Arizona State University. Her laboratory focuses on developing novel imaging technologies and applying systems biology approaches for disease detection and patient stratification. Recent work in her lab has led to the publication of a Featured Article in Applied Physics Letters and the submission of 18 patent applications. Since joining ASU\, Smith has directed multiple Federal including the NSF CAREER Award\, State\, Foundation\, and University funded grants. In addition\, she has received teaching awards including the Centennial Professorship Award\, honoring her deep commitment to excellence in education. \n
URL:https://www.bordeaux-neurocampus.fr/en/event/seminar-barbara-smith/
CATEGORIES:For scientists,home-event,Impromptu seminar
END:VEVENT
END:VCALENDAR