BEGIN:VCALENDAR
VERSION:2.0
PRODID:-//Bordeaux Neurocampus - ECPv4.9.10//NONSGML v1.0//EN
CALSCALE:GREGORIAN
METHOD:PUBLISH
X-WR-CALNAME:Bordeaux Neurocampus
X-ORIGINAL-URL:https://www.bordeaux-neurocampus.fr/en/
X-WR-CALDESC:Events for Bordeaux Neurocampus
BEGIN:VTIMEZONE
TZID:Europe/Paris
BEGIN:DAYLIGHT
TZOFFSETFROM:+0100
TZOFFSETTO:+0200
TZNAME:CEST
DTSTART:20220327T010000
END:DAYLIGHT
BEGIN:STANDARD
TZOFFSETFROM:+0200
TZOFFSETTO:+0100
TZNAME:CET
DTSTART:20221030T010000
END:STANDARD
BEGIN:DAYLIGHT
TZOFFSETFROM:+0100
TZOFFSETTO:+0200
TZNAME:CEST
DTSTART:20230326T010000
END:DAYLIGHT
BEGIN:STANDARD
TZOFFSETFROM:+0200
TZOFFSETTO:+0100
TZNAME:CET
DTSTART:20231029T010000
END:STANDARD
END:VTIMEZONE
BEGIN:VEVENT
DTSTART;VALUE=DATE:20220211
DTEND;VALUE=DATE:20230103
DTSTAMP:20260425T155824
CREATED:20220209T143152Z
LAST-MODIFIED:20220209T143152Z
UID:144934-1644537600-1672703999@www.bordeaux-neurocampus.fr
SUMMARY:Exposition : "Cell Immersion"
DESCRIPTION:Les Bassins des Lumières – Imp. Brown de Colstoun\, Bordeaux \n\nCell Immersion vous convie à un voyage Art & Science dans un monde microscopique méconnu : l’humain. \nL’œuvre est la première brique d’un projet d’envergure\, nommé Cell Worlds\, qui amène les images de microscopie là où elles ne sont jamais allées. Loin des laboratoires et des disques durs des scientifiques et au plus près des cellules humaines. Ici\, tout est bien réel\, et surtout vivant. Chaque visuel de l’exposition se compose de véritables cellules : de l’électrisant neurone au fragile embryon en passant par les mélancoliques flux sanguins du cerveau. Découvrez un univers aux couleurs chatoyantes et d’une diversité incroyable. \nCell Immersion est une première mondiale scientifique\, mettant en scène le vivant microscopique dans des proportions jamais tentées. C’est également un des plus grands showcases de la recherche scientifique\, regroupant de nombreuses équipes\, laboratoires et instituts du monde entier. Une preuve que la science et l’art n’ont pas de frontières. \nÀ travers l’émerveillement\, ce voyage saura éveiller votre curiosité scientifique. Au-delà du simple divertissement\, Cell Immersion vous invite à vous reconnecter avec le monde vivant microscopique qui est aujourd’hui trop inconnu\, trop peu contemplé et parfois trop mystifié. \n  \n\nRéalisation : Terence Saulnier et Renaud Pourpre \nComposition de la bande originale : Youenn Lerb \n\nCet événement est organisé dans le cadre de la Semaine du Cerveau. \nPour plus d’informations : https://www.bassins-lumieres.com/fr/cell-immersion \n
URL:https://www.bordeaux-neurocampus.fr/en/event/exposition-cell-immersion/
LOCATION:Les Bassins des Lumières\, Imp. Brown de Colstoun\, Bordeaux\, 33000\, France
CATEGORIES:not-calendar,Semaine du cerveau 2022
END:VEVENT
BEGIN:VEVENT
DTSTART;VALUE=DATE:20220927
DTEND;VALUE=DATE:20221001
DTSTAMP:20260425T155824
CREATED:20210526T090100Z
LAST-MODIFIED:20220721T154426Z
UID:135323-1664236800-1664582399@www.bordeaux-neurocampus.fr
SUMMARY:Bordeaux Neurocampus international conference: "Synaptic Plasticity"
DESCRIPTION:Molecular\, cellular and network mechanisms of synaptic plasticity \nScientific committee\n \n– Daniel Choquet (IINS)\n– Laurent Groc (IINS)\n– Aude Panatier (Neurocentre Magendie) \n\nMore details: http://autumn-brainconf.u-bordeaux.fr \n
URL:https://www.bordeaux-neurocampus.fr/en/event/bordeaux-neurocampus-international-conference-synaptic-plasticity/
CATEGORIES:For scientists,home-event,Symposium
END:VEVENT
BEGIN:VEVENT
DTSTART;TZID=Europe/Paris:20220929T140000
DTEND;TZID=Europe/Paris:20220929T140000
DTSTAMP:20260425T155824
CREATED:20220823T160009Z
LAST-MODIFIED:20220823T160009Z
UID:150816-1664460000-1664460000@www.bordeaux-neurocampus.fr
SUMMARY:Soutenance de thèse - Mathide Salagnon
DESCRIPTION:Lieu : Centre Broca \n\nDirecteur de thèse: Emannuel Mellet (IMN) \nTitre\nNaissance de la pensée symbolique chez l’Homme : Étude des bases neurales de la perception des gravures paléolithiques abstraites et des visages culturalisés en neuroimagerie fonctionnelle. \nRésumé\nLes découvertes archéologiques décrivant les premières gravures paléolithiques abstraites et l’ornementation du corps\, à travers les objets de parure et l’utilisation de pigments\, suggèrent que l’utilisation de signes et/ou de symboles n’est pas circonscrite à Homo sapiens mais pourrait concerner des Hominines beaucoup plus anciens. Nous plaçant dans une perspective neuroarchélologique\, nos études visent à inférer les bases neurales nécessaires à l’apparition de ces premiers comportements attestant d’une pensée symbolique. Nous avons utilisé l’Imagerie par Résonance Magnétique fonctionnelle (IRMf)\, qui permet d’enregistrer l’activité cérébrale de participants\, lorsque nous leur présentions des stimuli issus d’innovations culturelles potentiellement symboliques. Il s’agissait de versions schématiques et de photographies des premières gravures paléolithiques\, puis de visages culturellement ornementés avec des perles en bois et des traits de peinture rouge\, inspirés d’ornementations préhistoriques. Les résultats de la première étude montrent que la perception visuelle des premières gravures paléolithiques abstraites mobilise des aires cérébrales visuelles associatives\, situées dans la partie antérieure de la voie occipito-temporale. Ces régions\, impliquées dans la reconnaissance et l’identification de percepts visuels\, indiquent que les premières gravures paléolithiques abstraites sont perçues comme des stimuli auquel on peut attribuer une signification. A cet égard\, cette observation est compatible avec l’hypothèse proposant que ces premières gravures auraient pu constituer des signes voire dessymboles. Dans une deuxième étude\, afin de mimer les effets de familiarité des gravures que nos ancêtres possédaient sans doute\, nous avons comparé les réponses cérébrales d’experts archéologues et de participants novices dans une tâche de discrimination de gravures intentionnellement produites par des Hominines et de marques issues de processus naturels. Les résultats montrent un effet de familiarité avec ce type de matériel. En effet\, lorsque des archéologues avaient à catégoriser les motifs\, ils mobilisaient davantage la partie ventrale du cortex occipital latéral\, ainsi que le thalamus médiodorsal. Ces activations refléteraient l’analyse fine perceptive réalisée\, en lien avec des connaissances stockées à long terme. Par ailleurs\, la catégorisation des motifs abstraits en fonction de leur origine humaine ou naturelle a révélé l’engagement des structures sous-corticales comme la tête du noyau caudé et le thalamus\, et de régions corticales dont l’insula antérieure et ce\, quel que soit le niveau d’expertise des participants. Ces régions appartiennent au réseau de la saillance\, qui joue un rôle dans la détection d’éléments pertinents de l’environnement pour effectuer la tâche. Enfin\, la troisième étude montre que l’attribution d’un statut social à partir de visages culturalisés mobilise des régions visuelles de la voie occipito-temporale manifestent le traitement approfondi d’informations visuelles\, jusqu’au pôle temporal dont il a été suggéré un rôle d’association entre la perception de visages et l’identité d’informations à propos d’une personne\, des régions impliquées dans la détection d’éléments saillants de l’environnement et des régions frontales appartenant au « cerveau social ». Le travail de ma thèse suggère qu’au Paléolithique et Stone Age\, les bases neurales étaient déjà fonctionnelles pour sélectionner les éléments pertinents de l’environnement afin de reconnaitre des productions intentionnelles d’autrui\, puis d’être capable d’y attacher une signification\, probablement culturellement déterminée\, ceci dans le contexte d’une organisation sociale toujours plus complexe. \nJury\nM. Emmanuel MELLET CNRS Université de Bordeaux Directeur de thèse\nMme Carole PEYRIN CNRS Université Grenoble Alpes Rapporteure\nM. Antoine BALZEAU CNRS et MNHN et Université Perpignan Rapporteur\nMme Sylvie CHOKRON CNRS Université Paris Examinatrice\nM. Yann HEUZE CNRS Université Bordeaux Examinateur\nM. Francesco D’ERRICO CNRS Université de Bordeaux et Université de Bergen \n
URL:https://www.bordeaux-neurocampus.fr/en/event/soutenance-de-these-mathide-salagnon/
CATEGORIES:Thesis
END:VEVENT
BEGIN:VEVENT
DTSTART;TZID=Europe/Paris:20220929T160000
DTEND;TZID=Europe/Paris:20220929T160000
DTSTAMP:20260425T155824
CREATED:20220901T142702Z
LAST-MODIFIED:20220901T143058Z
UID:150563-1664467200-1664467200@www.bordeaux-neurocampus.fr
SUMMARY:Clinical neuroanatomy seminar - Dagmar Timmann
DESCRIPTION:On YouTube and on Zoom :\nhttps://www.youtube.com/watch?v=V_KCM0b1U0c \n\nTitle\nInvolvement of the cerebellum in motor and emotional learning \nDr. Dagmar Timmann\nErwin L. Hahn Institute for MRI (Germany) \n\n\n\n\n\nAbout CNSeminars\nwww.clinicalneuroanatomyseminars \n\n\n\n\n\n
URL:https://www.bordeaux-neurocampus.fr/en/event/clinical-neuroanatomy-seminar-dagmar-timmann/
CATEGORIES:For scientists,home-event,Impromptu seminar
END:VEVENT
END:VCALENDAR