BEGIN:VCALENDAR
VERSION:2.0
PRODID:-//Bordeaux Neurocampus - ECPv4.9.10//NONSGML v1.0//EN
CALSCALE:GREGORIAN
METHOD:PUBLISH
X-WR-CALNAME:Bordeaux Neurocampus
X-ORIGINAL-URL:https://www.bordeaux-neurocampus.fr/en/
X-WR-CALDESC:Events for Bordeaux Neurocampus
BEGIN:VTIMEZONE
TZID:Europe/Paris
BEGIN:DAYLIGHT
TZOFFSETFROM:+0100
TZOFFSETTO:+0200
TZNAME:CEST
DTSTART:20200329T010000
END:DAYLIGHT
BEGIN:STANDARD
TZOFFSETFROM:+0200
TZOFFSETTO:+0100
TZNAME:CET
DTSTART:20201025T010000
END:STANDARD
END:VTIMEZONE
BEGIN:VEVENT
DTSTART;TZID=Europe/Paris:20200417T113000
DTEND;TZID=Europe/Paris:20200417T123000
DTSTAMP:20260424T042940
CREATED:20191216T112306Z
LAST-MODIFIED:20200323T114900Z
UID:113923-1587123000-1587126600@www.bordeaux-neurocampus.fr
SUMMARY:Cancelled // Seminar - Rodrigo Cunha
DESCRIPTION:Venue: Centre Broca nouvelle-Aquitaine \n\nCoffee\, caffeine and brain function \nRodrigo Cunha\nCenter for Neuroscience and Cell Biology (CNC) – Coimbra – Portugal\nhttp://www.cnbc.pt/research/department_group_show.asp?iddep=1107&idgrp=1109 \nInvited by Eric Boué-Grabot – IMN \nSelection of publications:\n– Gonçalves F.Q.\, Lopes JP\, Silva HB\, Lemos C\, Silva AC\, Gonçalves N\, Tomé AR\, Ferreira SG\, Canas PM\, Rial D\, Agostinho P\, Cunha RA (2019) Synaptic and memory dysfunction in a β-amyloid model of early Alzheimer’s disease depends on increased formation of ATP-derived extracellular adenosine. Neurobiology of Disease 132: 104570. \n– Canas PM\, Porciúncula LO\, Simões AP\, Augusto E\, Silva HB\, Machado NJ\, Gonçalves N\, Alfaro TM\, Gonçalves FQ\, Araújo IM\, Real JI\, Coelho JE\, Andrade GM\, Almeida RD\, Chen JF\, Kofalvi A\, Agostinho P\, Cunha RA (2018) Neuronal adenosine A2A receptors are critical mediators of neurodegeneration triggered by convulsions. eNeuro 5: e0385-18. \n– Simões AP\, Machado NJ\, Gonçalves N\, Kaster MP\, Simões AT\, Nunes A\, Pereira de Almeida L\, Goosens KA\, Rial D\, Cunha RA (2016) Adenosine A2A receptors in the amygdala control synaptic plasticity and contextual fear memory. Neuropsychopharmacology 41\, 2862-2871. \n– Kaster MP\, Machado NJ\, Silva HB\, Ardais AP\, Santana M\, Baqi Y\, Müller CE\, Rodrigues ALS\, Porciúncula LO\, Chen JF\, Tomé AR\, Agostinho P\, Canas PM\, Cunha RA (2015) Caffeine acts through neuronal adenosine A2A receptors to prevent mood and memory dysfunction triggered by chronic stress. Proc Natl Acad Sci USA 112: 7833-7838. \n– Li P\, Rial R\, Canas PM\, Yoo JH\, Li W\, Zhou X\, Wang Y\, van Westen GJP\, Payen MP\, Augusto E\, Gonçalves N\, Tomé AR\, Li Z\, Wu Z\, Hou X\, Zhou Y\, IJzerman AP\, Boyden ES\, Cunha RA\, Qu J\, Chen JF (2015) Optogenetic activation of intracellular adenosine A2A receptor signaling in hippocampus is sufficient to trigger CREB phosphorylation and impair memory. Mol Psychiatry 20: 1339-1349. \n\nOrganised by Bordeaux Neurocampus \n
URL:https://www.bordeaux-neurocampus.fr/en/event/seminaire-bordeaux-neurocampus-2/
CATEGORIES:home-event,Seminars
ATTACH;FMTTYPE=image/jpeg:https://www.bordeaux-neurocampus.fr/wp-content/uploads/2019/12/Cunha-Rodrigo-vign.jpg
END:VEVENT
END:VCALENDAR