BEGIN:VCALENDAR
VERSION:2.0
PRODID:-//Bordeaux Neurocampus - ECPv4.9.10//NONSGML v1.0//EN
CALSCALE:GREGORIAN
METHOD:PUBLISH
X-WR-CALNAME:Bordeaux Neurocampus
X-ORIGINAL-URL:https://www.bordeaux-neurocampus.fr/en/
X-WR-CALDESC:Events for Bordeaux Neurocampus
BEGIN:VTIMEZONE
TZID:Europe/Paris
BEGIN:DAYLIGHT
TZOFFSETFROM:+0100
TZOFFSETTO:+0200
TZNAME:CEST
DTSTART:20190331T010000
END:DAYLIGHT
BEGIN:STANDARD
TZOFFSETFROM:+0200
TZOFFSETTO:+0100
TZNAME:CET
DTSTART:20191027T010000
END:STANDARD
END:VTIMEZONE
BEGIN:VEVENT
DTSTART;VALUE=DATE:20191010
DTEND;VALUE=DATE:20191011
DTSTAMP:20260422T102800
CREATED:20191007T132043Z
LAST-MODIFIED:20191007T153948Z
UID:111632-1570665600-1570751999@www.bordeaux-neurocampus.fr
SUMMARY:Séminaire commercial - Logiciel d'analyse d'images Aivia
DESCRIPTION:La société DRVision présentera le logiciel d’analyse d’images Aivia le : \nJeudi 10 octobre\, Séminaire de 9h30 à 10h30\, suivi de questions \nDémonstrations du logiciel avec vos images de 13h à 18h\, sur réservation :\nhttps://app.acuityscheduling.com/schedule.php?owner=18300118\n\nLieu : Campus Carreire\, Bât CGFB\, salle de conférence \nAivia\, pour Artificial Intelligence and Visualization for Image Analysis\, est un logiciel permettant : \n\nUn rendu et calcul 3D/4D multi-thread parallèle pour toujours manipuler l’image\, même lors d’une analyse\,\nUn rendu multi-blocs et multi-résolutions permettant la manipulation d’images volumineuses\,\nDes outils prédéfinis et automatisés pour des analyses précises et un aperçu rapide des résultats (ex : segmentation d’objets 3D\, tracking\, tracé de neurones\, etc.)\,\nDe puissants outils de segmentation par machine-learning pour des jeux de données complexes (formes et intensités hétérogènes)\, ainsi qu’une classification d’objets 3D\,\nUne interface de Deep-Learning pour de la restauration\, déconvolution\, segmentation EM 3D et prédiction d’organelles depuis une image en transmission.\n\n
URL:https://www.bordeaux-neurocampus.fr/en/event/seminaire-commercial-logiciel-danalyse-dimages-aivia/
CATEGORIES:Industrial seminar or booth
END:VEVENT
BEGIN:VEVENT
DTSTART;TZID=Europe/Paris:20191010T183000
DTEND;TZID=Europe/Paris:20191010T203000
DTSTAMP:20260422T102800
CREATED:20190713T114104Z
LAST-MODIFIED:20190827T082431Z
UID:109701-1570732200-1570739400@www.bordeaux-neurocampus.fr
SUMMARY:Conference for all : "Sport: quand la motivation dépasse la raison"
DESCRIPTION:Les bienfaits de la pratique sportive sur le corps et l’esprit ne sont plus à démontrer. Pourtant\, l’inactivité physique reste un problème majeur de santé publique\, cette inactivité reposant sur un manque de motivation. Inversement\, une frange de la population sportive\, certes minoritaire\, souffre d’un excès de motivation qui peut conduire à une addiction ouvrant la voie aux traumatismes. Le premier intervenant exposera l’état actuel de nos connaissances sur la neurobiologie de la motivation pour l’activité physique. Le second intervenant exposera des cas cliniques de pathologies associées à la pratique sportive. \nIntervenants :   \nFrancis Chaouloff (Directeur de recherche\, Neurocentre Magendie) \nJulie Farbos (Psychiatre\, Service Sport Santé Prévention du CHU) \nModération : \nFranck Burglen (Neurocentre Magendie) Modération \nLieu : \nAuditorium Médiathèque Jacques Ellul – Pessac \nGratuit \nSans réservation \n  \n
URL:https://www.bordeaux-neurocampus.fr/en/event/conference-for-all-sport/
CATEGORIES:Events for all
END:VEVENT
END:VCALENDAR