BEGIN:VCALENDAR
VERSION:2.0
PRODID:-//Bordeaux Neurocampus - ECPv4.9.10//NONSGML v1.0//EN
CALSCALE:GREGORIAN
METHOD:PUBLISH
X-WR-CALNAME:Bordeaux Neurocampus
X-ORIGINAL-URL:https://www.bordeaux-neurocampus.fr/en/
X-WR-CALDESC:Events for Bordeaux Neurocampus
BEGIN:VTIMEZONE
TZID:Europe/Paris
BEGIN:DAYLIGHT
TZOFFSETFROM:+0100
TZOFFSETTO:+0200
TZNAME:CEST
DTSTART:20190331T010000
END:DAYLIGHT
BEGIN:STANDARD
TZOFFSETFROM:+0200
TZOFFSETTO:+0100
TZNAME:CET
DTSTART:20191027T010000
END:STANDARD
END:VTIMEZONE
BEGIN:VEVENT
DTSTART;TZID=Europe/Paris:20191007T093000
DTEND;TZID=Europe/Paris:20191007T093000
DTSTAMP:20260422T140533
CREATED:20190711T083510Z
LAST-MODIFIED:20190905T151712Z
UID:109649-1570440600-1570440600@www.bordeaux-neurocampus.fr
SUMMARY:Thesis defense - Tiago Campelo
DESCRIPTION:\n	\n		\n			Venue: centre Broca Nouvelle-Aquitaine \nThesis supervisor : Daniel Choquet \n\n		\n	\n”Summary”\n\n	\n		\n			Tiago Campelo\nNeuronal receptive fields in the cerebral cortex change in response to peripheral injury\, with active modalities gaining cortical space at the expense of less active ones. Experiments on the mouse whisker-to-barrel cortex system provided important evidences about the synaptic mechanisms driving this cortical remapping. Under normal conditions\, neurons in each barrel-column have receptive fields that are strongly tuned towards one principal whisker (PW). However\, trimming all the whiskers except one (single-whisker experience\, SWE) causes layer (L) 2/3 pyramidal neurons located in the deprived and spared-related columns to increase their response towards the spared input. This results in a strengthening and expansion of the spared whisker representation within the barrel sensory map. Indirect evidences suggest that these cortical alterations might depend on the activity-dependent potentiation of pre-existing excitatory synapses (LTP)\, likely through increased levels of postsynaptic AMPA receptors (AMPARs). However\, a clear link between LTP\, cortical remapping\, and the adaptation of sensorimotor skills following altered sensory experience has not yet convincingly been demonstrated. Here\, we combined in vivo whole-cell recordings\, 2-Photon calcium imaging and a whisker-dependent behavior protocol to directly demonstrate this relationship. It has been described that rhythmic whisker stimulation potentiates cortical synapses (RWS-LTP) in vivo. An accumulation of postsynaptic AMPARs during similar sensory stimulation was also reported by imaging evidences. Our data demonstrates that this potentiation is occluded by SWE\, suggesting that cortical synapses are already potentiated by this trimming protocol. This is translated into an increased neuronal excitability in the spared column and sensorimotor recovery by the spared whisker. To better understand the implication of LTP in cortical remapping\, we developed a novel approach to manipulate LTP in vivo without affecting overall circuit properties. Our team showed previously that the blockage of AMPARs synaptic recruitment by extracellular antibody cross-linking prevents LTP in vitro. Here\, we report that in vivo cross-linking of AMPARs blocks the expression but not the induction of RWS-LTP\, suggesting that the synaptic recruitment of AMPARs is fundamental for in vivo LTP as well. Moreover\, chronic AMPAR cross-linking during SWE reverts RWS-LTP occlusion and the increased neuronal excitability caused by whisker trimming. As consequence\, the sensorimotor performance by the spared whisker is permanently impaired by the blockage of cortical remapping. Altogether\, these evidences led us to define a critical role for synaptic LTP on circuit re-arrangement after whisker trimming. Our data shows that LTP-driven cortical remapping is a compensatory mechanism to optimize animal’s sensorimotor behavior upon altered sensory experience. \nKeywords: AMPAR; Synaptic Plasticity; LTP; Cortical Remapping; In vivo Patch Clamp; In vivo 2-Photon imaging \n\n		\n	\n”Jury”\n\n	\n		\n			- Professor Richard Huganir\, PhD\n– Professor Anthony Holtmaat\, PhD\n– Isabelle Ferezou\, PhD\n– Julie Perroy\, PhD\n– Jérôme Baufreton\, PhD \n\n		\n	\n\n
URL:https://www.bordeaux-neurocampus.fr/en/event/thesis-defense-tiago-campelo/
CATEGORIES:Thesis
END:VEVENT
BEGIN:VEVENT
DTSTART;TZID=Europe/Paris:20191007T140000
DTEND;TZID=Europe/Paris:20191007T170000
DTSTAMP:20260422T140534
CREATED:20190711T083717Z
LAST-MODIFIED:20191030T154833Z
UID:109621-1570456800-1570467600@www.bordeaux-neurocampus.fr
SUMMARY:Symposium: Synaptic and circuit correlates of animal behavior
DESCRIPTION:Venue: Centre Broca Nouvelle-Aquitaine \n9h30-10h15\nTiago Campelo (PhD defense)\nFrom AMPAR lateral diffusion to whisker perception:A new model for cortical remapping \n\n14:00 –14:40\nProf. Richard Huganir\nRegulation of AMPA Receptor Function in Health and Disease \n14:40-15:20\nDr. Julie Perroy\nFunctional D1-mGlu5 heteromers: implications in maladaptive responses to Parkinson’s disease treatment \n15:20-16:00\nDr. Jérôme Baufreton\nCharacterization of the cellular dichotomy in the external globus pallidus \n16:00-16:20 Coffee Break \n16:20 -17:00\nDr. Isabelle Férézou\nA mesoscopic view of tactile sensory information processing in the cerebral cortex \n17:00 –17:40\nProf. Anthony Holtmaat\nContext-Dependent Dynamics of Functional Selectivity in Somatosensory Cortex \n  \n  \n
URL:https://www.bordeaux-neurocampus.fr/en/event/symposium/
CATEGORIES:home-event,Symposium
END:VEVENT
END:VCALENDAR