BEGIN:VCALENDAR
VERSION:2.0
PRODID:-//Bordeaux Neurocampus - ECPv4.9.10//NONSGML v1.0//EN
CALSCALE:GREGORIAN
METHOD:PUBLISH
X-WR-CALNAME:Bordeaux Neurocampus
X-ORIGINAL-URL:https://www.bordeaux-neurocampus.fr/en/
X-WR-CALDESC:Events for Bordeaux Neurocampus
BEGIN:VTIMEZONE
TZID:Europe/Paris
BEGIN:DAYLIGHT
TZOFFSETFROM:+0100
TZOFFSETTO:+0200
TZNAME:CEST
DTSTART:20180325T010000
END:DAYLIGHT
BEGIN:STANDARD
TZOFFSETFROM:+0200
TZOFFSETTO:+0100
TZNAME:CET
DTSTART:20181028T010000
END:STANDARD
END:VTIMEZONE
BEGIN:VEVENT
DTSTART;TZID=Europe/Paris:20181212T140000
DTEND;TZID=Europe/Paris:20181212T140000
DTSTAMP:20260422T004501
CREATED:20181205T152311Z
LAST-MODIFIED:20190116T170030Z
UID:100883-1544623200-1544623200@www.bordeaux-neurocampus.fr
SUMMARY:Thesis defense - Zied Oueghlani
DESCRIPTION: \nDate et lieu de soutenance:\nle 12 décembre 2018\, 14h à \nl’amphi Broca Nouvelle-Aquitaine\, Campus Carreire . \nDirecteur de thèse : Grégory Barriere\, (INCIA – UMR5287)\,  équipe “Coordination et Plasticité des Générateurs Spinaux” (CPGs dirigée par Dr. Sandrine Bertrand) \nRésumé\nLors de la locomotion\, la commande rythmique envoyée aux muscles des membres est organisée de manière spatiale et temporelle par les générateurs centraux du patron locomoteur (CPGs) localisés dans la moelle épinière. Ces derniers sont sous le contrôle des centres supraspinaux impliqués dans l’aspect motivationnel du comportement locomoteur dont l’activité est constamment modulée par des afférences sensorielles afin de permettre d’adapter les mouvements aux changements environnementaux. L’objectif majeur de mon travail doctoral était d’explorer les mécanismes des interactions dynamiques entre (1) les centres supraspinaux\, (2) les CPGs et (3) les afférences sensorielles dans le contrôle de la locomotion chez le rat nouveau-né intact et spino-lésé. \nEn nous appuyant sur le modèle de préparation de tronc cérébral / moelle épinière isolée in vitro\, nous avons montré que la manipulation de l’organisation temporelle de la commande locomotrice en provenance de la formation réticulée (située dans le tronc cérébral) est efficace pour ajuster finement l’activité des CPGs locomoteurs. Nous avons ensuite mis en lumière l’importance des voies descendantes sérotonergiques dans l’intégration de l’information sensorielle par les CPGs locomoteurs durant la première semaine postnatale. \nEnfin\, en combinant des approches comportementales\, neurochimiques et électrophysiologiques\, nous avons mis en évidence des effets différents mais complémentaires des neuromodulateurs monoaminergiques (sérotonine\, dopamine et noradrénaline) dans la réexpression du comportement locomoteur après une lésion spinale. Notre travail ouvre de belles perspectives pour la compréhension du contrôle afférent de la moelle épinière\, à la fois dans un contexte non-pathologique et après un traumatisme médullaire. \nMots clefs : Locomotion\, CPGs\, contrôle descendant\, afférences sensorielles\, traumatisme médullaire \nPublications\nOueghlani\, Z.\, Simonnet\, C.\, Cardoit\, L.\, Courtand\, G.\, Cazalets\, J.-R.\, Morin\, D.\, Juvin*\, L.\, and Barrière*\, G. (2018). Brainstem Steering of Locomotor Activity in the Newborn Rat. J. Neurosci. 38\, 7725–7740. *Contributed equally \nOueghlani\, Z.\, Lambert\, FM.\, Cardoit\, L.\, Courtand G\, Masméjean\, F.\, Cazalets JR.\, Barrière\, G.\, (2018). Serotonergic modulation of locomotor outputs induced by sacral dorsal root stimulation in the isolated neonatal rat spinal cord. Article en préparation. \n\n\nJury\n\nPr. Patrick DECHERCHI\nProfesseur\, Université d’Aix-Marseille\nRapporteur\nDr. Hélène BRAS \nChargée de recherche\, CNRS\, Aix-Marseille\nRapporteur\nDr. Jérôme BAUFRETON\nDirecteur de recherche\, CNRS\, Bordeaux\nExaminateur\nPr. Marina MARTINEZ \nAssistant Professor\, Université de Montréal\nExaminatrice\nDr. Laurent JUVIN \nMaitre de conférences\, Université de Bordeaux\nMembre Invité\nDr. Grégory BARRIERE \nChargé de recherche\, CNRS\, Bordeaux\nDirecteur de Thèse \n\n\n\n
URL:https://www.bordeaux-neurocampus.fr/en/event/thesis-defense-zied-oueghlani/
CATEGORIES:Thesis
END:VEVENT
END:VCALENDAR