BEGIN:VCALENDAR
VERSION:2.0
PRODID:-//Bordeaux Neurocampus - ECPv4.9.10//NONSGML v1.0//EN
CALSCALE:GREGORIAN
METHOD:PUBLISH
X-WR-CALNAME:Bordeaux Neurocampus
X-ORIGINAL-URL:https://www.bordeaux-neurocampus.fr/en/
X-WR-CALDESC:Events for Bordeaux Neurocampus
BEGIN:VTIMEZONE
TZID:Europe/Paris
BEGIN:DAYLIGHT
TZOFFSETFROM:+0100
TZOFFSETTO:+0200
TZNAME:CEST
DTSTART:20240331T010000
END:DAYLIGHT
BEGIN:STANDARD
TZOFFSETFROM:+0200
TZOFFSETTO:+0100
TZNAME:CET
DTSTART:20241027T010000
END:STANDARD
END:VTIMEZONE
BEGIN:VEVENT
DTSTART;TZID=Europe/Paris:20241003T140000
DTEND;TZID=Europe/Paris:20241003T140000
DTSTAMP:20260421T121715
CREATED:20240715T165555Z
LAST-MODIFIED:20240715T171823Z
UID:173213-1727964000-1727964000@www.bordeaux-neurocampus.fr
SUMMARY:Thesis defense - Nathan Benac
DESCRIPTION:Venue: Centre Broca \n\nNathan Benac\nTeam: Groc (IINS) \n
URL:https://www.bordeaux-neurocampus.fr/en/event/thesis-defense-nathan-benac/
END:VEVENT
END:VCALENDAR