BEGIN:VCALENDAR
VERSION:2.0
PRODID:-//Bordeaux Neurocampus - ECPv4.9.10//NONSGML v1.0//EN
CALSCALE:GREGORIAN
METHOD:PUBLISH
X-WR-CALNAME:Bordeaux Neurocampus
X-ORIGINAL-URL:https://www.bordeaux-neurocampus.fr/en/
X-WR-CALDESC:Events for Bordeaux Neurocampus
BEGIN:VTIMEZONE
TZID:Europe/Paris
BEGIN:DAYLIGHT
TZOFFSETFROM:+0100
TZOFFSETTO:+0200
TZNAME:CEST
DTSTART:20230326T010000
END:DAYLIGHT
BEGIN:STANDARD
TZOFFSETFROM:+0200
TZOFFSETTO:+0100
TZNAME:CET
DTSTART:20231029T010000
END:STANDARD
END:VTIMEZONE
BEGIN:VEVENT
DTSTART;TZID=Europe/Paris:20231205T143000
DTEND;TZID=Europe/Paris:20231205T143000
DTSTAMP:20260422T103009
CREATED:20231122T135531Z
LAST-MODIFIED:20231124T092117Z
UID:164662-1701786600-1701786600@www.bordeaux-neurocampus.fr
SUMMARY:Thesis Defense - Emmanuelle Baillet
DESCRIPTION:Venue : Centre Broca Nouvelle-Aquitaine \nThesis defense in French \n\nEmmanuelle Baillet\nSanpsy\nTeam : Addiction\nThesis directed by Marc Auriacombe \n\nTitle\nCraving: an early and predictive marker of addiction? \nAbstract\nAddiction\, or substance use disorder (SUD)\, can be characterized by deregulation of control over the use of reinforcing substances\, resulting in persistent use despite negative consequences. Craving\, defined as an intense urge to use\, is both a diagnostic criterion among the 11 DSM-5 criteria and a fluctuating phenomenon whose daily variations in everyday life explored with the Ecological Momentary Assessment (EMA) method have been prospectively associated with use\, giving it a potential prognostic and etiological value. The presence of craving in subjects with mild addiction suggests that it could be an early marker. On the other hand\, while craving is a powerful predictor of use and relapse in the short and medium term (1 year)\, the long-term impact (5 years and more) of its fluctuations is unknown. The cue-reactivity paradigm would lead to both craving and changes in brain and autonomic activity\, suggesting that these changes could be the physiological expression of craving. The aim of this PhD project was to investigate the role of craving in the development of addiction\, its impact on long-term relapse and its physiological correlates. A total of 1\,528 subjects with addiction or use of different substances\, in or out of treatment\, were included in different protocols. Craving was assessed either as a diagnostic criterion (a trait\, presence or absence)\, or as a fluctuating phenomenon (a state\, of variable intensity). DSM-5 diagnostic criteria were used to establish a network of symptoms in patients requesting treatment\, and to explore the predictive role of craving on addiction in a longitudinal general population study. The EMA was used to collect craving data\, while a wearable sensor was used to collect physiological data over a 14-day period. Multilevel models examined craving fluctuations and their impact on severity and relapse; then machine learning algorithms enabled exploration of its physiological correlates. Our results show that\, for different substances\, craving was the most central criterion in the network analyses\, and that a dose-response relationship for craving and its persistence over 12 months was associated with the number of SUD diagnostic criteria present. Dynamically\, variations in craving intensity during the first 14 days of treatment showed a slower decline for people relapsing to addiction after 5 years or more. Finally\, we were able to establish a physiological pattern distinguishing craving from no-craving episodes. In this PhD project\, we confirm the major role of craving as a central criterion for the expression of addiction\, and document that it is an early and predictive criterion in the development and severity of addiction. We show that fluctuations in craving intensity at the start of treatment could be a predictive marker of long-term relapse\, i.e.\, long-term response to treatment\, and that a physiological pattern could distinguish craving from no-craving episodes in daily life. These results underline the potential of craving as a marker of addiction and pave the way for biomarkers of craving\, offering new insights into its underlying mechanisms and new methods of identification and treatment. \nKey words\nCraving; Addiction; Ecological Momentary Assessment (EMA); Biomarkers; Autonomous reactivity \nJury\nPr Anna-Rose Childress (rapportrice)\nPr George Brousse (rapporteur)\nDr Sandra Chanraud (Examinatrice)\nDr Leonie Koban (Examinatrice)\nDr Serge Ahmed (Examinateur)\nDr Charlotte Kervran (Invitée)\nDr Hakim Si-Mohammed (Invité) \n
URL:https://www.bordeaux-neurocampus.fr/en/event/soutenance-de-these-emmanuelle-baillet/
CATEGORIES:Thesis
END:VEVENT
END:VCALENDAR