BEGIN:VCALENDAR
VERSION:2.0
PRODID:-//Bordeaux Neurocampus - ECPv4.9.10//NONSGML v1.0//EN
CALSCALE:GREGORIAN
METHOD:PUBLISH
X-WR-CALNAME:Bordeaux Neurocampus
X-ORIGINAL-URL:https://www.bordeaux-neurocampus.fr/en/
X-WR-CALDESC:Events for Bordeaux Neurocampus
BEGIN:VTIMEZONE
TZID:Europe/Paris
BEGIN:DAYLIGHT
TZOFFSETFROM:+0100
TZOFFSETTO:+0200
TZNAME:CEST
DTSTART:20210328T010000
END:DAYLIGHT
BEGIN:STANDARD
TZOFFSETFROM:+0200
TZOFFSETTO:+0100
TZNAME:CET
DTSTART:20211031T010000
END:STANDARD
END:VTIMEZONE
BEGIN:VEVENT
DTSTART;TZID=Europe/Paris:20210928T173000
DTEND;TZID=Europe/Paris:20210928T173000
DTSTAMP:20260421T135336
CREATED:20210910T131605Z
LAST-MODIFIED:20210924T115817Z
UID:139293-1632850200-1632850200@www.bordeaux-neurocampus.fr
SUMMARY:Reproducibilitea session
DESCRIPTION:Paper: Re-run\, Repeat\, Reproduce\, Reuse\, Replicate: Transforming Code into Scientific Contributions by Benureau & Rougier \nHost: Fjola Hyseni (Leblois’ & Rougier’s teams) \nWhere: Salle SUD or Zoom (hybrid) \nContact them for the zoom link! \nMore information about Reproducibilitea\nhttps://www.bordeaux-neurocampus.fr/reproducibilitea-open-science-journal-club/ \nhttps://twitter.com/BordeauxTea \n
URL:https://www.bordeaux-neurocampus.fr/en/event/reproducibilitea-session-5/
CATEGORIES:For scientists,home-event
END:VEVENT
END:VCALENDAR