BEGIN:VCALENDAR
VERSION:2.0
PRODID:-//Bordeaux Neurocampus - ECPv4.9.10//NONSGML v1.0//EN
CALSCALE:GREGORIAN
METHOD:PUBLISH
X-WR-CALNAME:Bordeaux Neurocampus
X-ORIGINAL-URL:https://www.bordeaux-neurocampus.fr/en/
X-WR-CALDESC:Events for Bordeaux Neurocampus
BEGIN:VTIMEZONE
TZID:Europe/Paris
BEGIN:DAYLIGHT
TZOFFSETFROM:+0100
TZOFFSETTO:+0200
TZNAME:CEST
DTSTART:20190331T010000
END:DAYLIGHT
BEGIN:STANDARD
TZOFFSETFROM:+0200
TZOFFSETTO:+0100
TZNAME:CET
DTSTART:20191027T010000
END:STANDARD
END:VTIMEZONE
BEGIN:VEVENT
DTSTART;TZID=Europe/Paris:20191114T180000
DTEND;TZID=Europe/Paris:20191114T210000
DTSTAMP:20260424T192205
CREATED:20191112T144700Z
LAST-MODIFIED:20191112T145323Z
UID:112755-1573754400-1573765200@www.bordeaux-neurocampus.fr
SUMMARY:Projection-débat : « Télescope intérieur\, une œuvre spatiale d’Eduardo Kac »
DESCRIPTION:Cinéma UGC\, Allée du 7e Art\, Talence \n\nAvec la participation de\n– Virgile Novarina\, réalisateur du documentaire.\n– Jean-Luc Morel\, chercheur CNRS à l’IMN et président du groupe de travail exploration humaine de l’espace du CNES. \nÀ propos de l’événement\n\nDans le cadre des 80 ans du CNRS et du festival FACTS \n_ \nConçue pour exister en apesanteur par l’artiste Eduardo Kac\, et réalisée à bord de la Station Spatiale Internationale par l’astronaute français Thomas Pesquet\, l’œuvre « Télescope intérieur » pose le premier jalon d’une nouvelle forme de création artistique et poétique\, libérée des contraintes de la pesanteur. Le film Télescope intérieur\, une œuvre spatiale d’Eduardo Kac\, nous entraîne dans cette aventure artistique et scientifique\, depuis la conception de l’œuvre dans l’atelier d’Eduardo Kac à Chicago\, jusqu’à sa réalisation en orbite par Thomas Pesquet à 400 km de la Terre\, lors de la mission Proxima de l’ ESA – European Space Agency. \n– \nEn présence de Younis Hermès\, Délégué Régional du CNRS en Aquitaine et de Philippe Moretto\, Vice-Président Recherche de l’université de Bordeaux \n\n\n
URL:https://www.bordeaux-neurocampus.fr/en/event/projection-debat-telescope-interieur-une-oeuvre-spatiale-deduardo-kac/
CATEGORIES:Events for all,home-event
END:VEVENT
END:VCALENDAR