BEGIN:VCALENDAR
VERSION:2.0
PRODID:-//Bordeaux Neurocampus - ECPv4.9.10//NONSGML v1.0//EN
CALSCALE:GREGORIAN
METHOD:PUBLISH
X-WR-CALNAME:Bordeaux Neurocampus
X-ORIGINAL-URL:https://www.bordeaux-neurocampus.fr/en/
X-WR-CALDESC:Events for Bordeaux Neurocampus
BEGIN:VTIMEZONE
TZID:Europe/Paris
BEGIN:DAYLIGHT
TZOFFSETFROM:+0100
TZOFFSETTO:+0200
TZNAME:CEST
DTSTART:20260329T010000
END:DAYLIGHT
BEGIN:STANDARD
TZOFFSETFROM:+0200
TZOFFSETTO:+0100
TZNAME:CET
DTSTART:20261025T010000
END:STANDARD
END:VTIMEZONE
BEGIN:VEVENT
DTSTART;TZID=Europe/Paris:20260325T183000
DTEND;TZID=Europe/Paris:20260325T203000
DTSTAMP:20260424T085848
CREATED:20260220T124900Z
LAST-MODIFIED:20260225T183333Z
UID:194662-1774463400-1774470600@www.bordeaux-neurocampus.fr
SUMMARY:Nouveaux traitements dans la maladie d'Alzheimer : quels questionnements ?
DESCRIPTION:Lieu : Amphi Durkheim\, Campus Victoire \n\nLes États généraux de la bioéthique 2026\, initiés par le Comité Consultatif National d’Ethique (CCNE)\, invitent chacun à réfléchir aux grands enjeux éthiques liés aux progrès scientifiques\, médicaux et sociétaux. En Nouvelle-Aquitaine\, l’Espace de Réflexion Éthique de Nouvelle-Aquitaine (ERENA) animera le débat à travers de nombreux événements. Un temps d’échange ouvert à tous pour comprendre\, questionner et construire collectivement l’avenir. \n\nLors de cette conférence-débat\, différents aspects seront abordés : le mécanisme de la maladie d’alzheimer et les prises en charge existantes\, le processus d’accès au marché des médicaments\, l’évaluation de l’efficacité clinique d’un nouveau traitement\, le volet médico-économique du développement d’un nouveau traitement\, les réflexions éthiques sous-jacentes dont celle de l’attente forte des malades d’Alzheimer et de leurs proches. \nIntervenants : \n– Driss Berdaï (Service de Pharmacologie Médicale du CHU de Bordeaux et membre du groupe Personnes Ressources de l’ERENA site Aquitain)\n– Geneviève Demoures (Vice-présidente du bureau national de France Alzheimer)\n– Vincent Planche (Neurologue – IMN\, Université de Bordeaux\, CHU de Bordeaux)\n– Clémence Thébaut (Économiste de la santé à l’ISPED\, Université de Bordeaux\, membre du Comité Consultatif National d’Ethique et membre du Conseil d’Orientation de l’ERENA) \nEn savoir plus \nS’inscrire \n\nDébat public organisé dans le cadre des Etats Généraux de la Bioéthique 2026 et de la Semaine du Cerveau 2026 \n .  \n\n
URL:https://www.bordeaux-neurocampus.fr/en/event/nouveaux-traitements-dans-la-maladie-dalzheimer-quels-questionnements/
CATEGORIES:For scientists,pour tous homepage,Semaine du cerveau 2026
END:VEVENT
END:VCALENDAR