BEGIN:VCALENDAR
VERSION:2.0
PRODID:-//Bordeaux Neurocampus - ECPv4.9.10//NONSGML v1.0//EN
CALSCALE:GREGORIAN
METHOD:PUBLISH
X-WR-CALNAME:Bordeaux Neurocampus
X-ORIGINAL-URL:https://www.bordeaux-neurocampus.fr/en/
X-WR-CALDESC:Events for Bordeaux Neurocampus
BEGIN:VTIMEZONE
TZID:Europe/Paris
BEGIN:DAYLIGHT
TZOFFSETFROM:+0100
TZOFFSETTO:+0200
TZNAME:CEST
DTSTART:20230326T010000
END:DAYLIGHT
BEGIN:STANDARD
TZOFFSETFROM:+0200
TZOFFSETTO:+0100
TZNAME:CET
DTSTART:20231029T010000
END:STANDARD
END:VTIMEZONE
BEGIN:VEVENT
DTSTART;TZID=Europe/Paris:20231107T093000
DTEND;TZID=Europe/Paris:20231107T123000
DTSTAMP:20260423T075650
CREATED:20231004T122749Z
LAST-MODIFIED:20231004T122749Z
UID:163058-1699349400-1699360200@www.bordeaux-neurocampus.fr
SUMMARY:Mini-symposium "Molecular and cellular mechanisms of synapse physiology"
DESCRIPTION:Venue : Centre Broca Nouvelle-Aquitaine \n\nProgramme\n9h30 – Maria PassafaroUnraveling PCDH19-related pathogenic mechanisms in Developmental and Epileptic Encephalopathy 9 (DEE9) \n10h10 – Andrea BarberisSpatial determinants for the interactions of glutamatergic and GABAergic synapses in dendrites of hippocampal pyramidal neurons \n10h50 – Kirill VolynskiSynergistic regulation of neurotransmitter release by different synaptotagmin isoforms. \n11h30 – Aude PanatierAstrocytic EphB receptors control NMDAR functions and memory \nAnd \n14h – PhD defense of Agata NowackaDifferential contributions of pre- and postsynaptic components in tuning high-frequency short-term synaptic plasticity \n
URL:https://www.bordeaux-neurocampus.fr/en/event/mini-symposium-molecular-and-cellular-mechanisms-of-synapse-physiology/
END:VEVENT
END:VCALENDAR