BEGIN:VCALENDAR
VERSION:2.0
PRODID:-//Bordeaux Neurocampus - ECPv4.9.10//NONSGML v1.0//EN
CALSCALE:GREGORIAN
METHOD:PUBLISH
X-WR-CALNAME:Bordeaux Neurocampus
X-ORIGINAL-URL:https://www.bordeaux-neurocampus.fr/en/
X-WR-CALDESC:Events for Bordeaux Neurocampus
BEGIN:VTIMEZONE
TZID:Europe/Paris
BEGIN:DAYLIGHT
TZOFFSETFROM:+0100
TZOFFSETTO:+0200
TZNAME:CEST
DTSTART:20240331T010000
END:DAYLIGHT
BEGIN:STANDARD
TZOFFSETFROM:+0200
TZOFFSETTO:+0100
TZNAME:CET
DTSTART:20241027T010000
END:STANDARD
END:VTIMEZONE
BEGIN:VEVENT
DTSTART;TZID=Europe/Paris:20240528T140000
DTEND;TZID=Europe/Paris:20240528T170000
DTSTAMP:20260419T151421
CREATED:20240522T125459Z
LAST-MODIFIED:20250114T103807Z
UID:171705-1716904800-1716915600@www.bordeaux-neurocampus.fr
SUMMARY:Mini symposium / Jonathan Elegheert's HDR
DESCRIPTION:Venue: Centre Broca \n\nA mini-symposium is organized in the frame of Jonathan Elegheert’s HDR defense. \n\n\n14h00 – 14h30; Fekrije Selimi (CIRB-Collège de France\, Paris)\nThe developmental history of the molecular synaptic code\n\n14h30 – 15h00; Pascale Marchot (Architecture et Fonction des Macromolécules Biologiques (AFMB)\, Marseille)\nCyclic imine toxins from dinoflagellates: a pinch of nAChR antagonist in your plate of shellfish\n\n15h00 – 15h30; Hugues Nury (Institut de Biologie Structurale (IBS)\, Grenoble)\nStructure and transitions of pentameric ligand-gated ion channels\n\n15h30 – 16h00; Pierre-Jean Corringer (Institut Pasteur\, Paris)\nNanobodies targeting and potentiating the brain alpha7 nicotinic receptor\n\n16h00 – 16h30; Laetitia Mony (Institut de Biologie de l’École Normale Supérieure (IBENS)\, Paris)\nOptical profiling of an NMDA receptor subtype at synaptic and extrasynaptic sites\n\n\n
URL:https://www.bordeaux-neurocampus.fr/en/event/mini-symposium-jonathan-elegheerts-hdr/
CATEGORIES:For scientists,home-event
END:VEVENT
END:VCALENDAR