BEGIN:VCALENDAR
VERSION:2.0
PRODID:-//Bordeaux Neurocampus - ECPv4.9.10//NONSGML v1.0//EN
CALSCALE:GREGORIAN
METHOD:PUBLISH
X-WR-CALNAME:Bordeaux Neurocampus
X-ORIGINAL-URL:https://www.bordeaux-neurocampus.fr/en/
X-WR-CALDESC:Events for Bordeaux Neurocampus
BEGIN:VTIMEZONE
TZID:Europe/Paris
BEGIN:DAYLIGHT
TZOFFSETFROM:+0100
TZOFFSETTO:+0200
TZNAME:CEST
DTSTART:20240331T010000
END:DAYLIGHT
BEGIN:STANDARD
TZOFFSETFROM:+0200
TZOFFSETTO:+0100
TZNAME:CET
DTSTART:20241027T010000
END:STANDARD
END:VTIMEZONE
BEGIN:VEVENT
DTSTART;TZID=Europe/Paris:20240607T090000
DTEND;TZID=Europe/Paris:20240607T170000
DTSTAMP:20260422T192251
CREATED:20240517T115435Z
LAST-MODIFIED:20240604T164644Z
UID:171523-1717750800-1717779600@www.bordeaux-neurocampus.fr
SUMMARY:Doctoral Research Day 2024
DESCRIPTION:Venue: Centre Broca \n\nProgram\n9:30 – Nathan Benac (Team: Groc\, IINS)\nNon-canonical interplay between glutamatergic NMDA and dopamine receptors shapes synaptogenesis \n10:00 – Sara Carracedo Vicente (Team: Boué-Grabot / Landry\, IMN)\nP2X4 receptor in ALS pathogenesis and its potential use as a biomaker \n10:30 – Ana Moreira de Sa (Team: Mulle\, IINS)\nPhysiological role of the amyloid precursor protein at hippocampal mossy fiber synapses \n11:00 – Coffee break – \n11:30 – Special guest: Ardem Patapoutian // More details\nMay the Force be with you! Piezo channels in mechanosensory biology \n– Lunch break – \n14:15 – Pierre Mortessagne (Team: Abrous\, Magendie)\nCharacterization of the different populations of granular neurons in the dentate gyrus of the hippocampus: from morphology to function \n14:45 – Celeste Ferraguto (Team: Bontempi\, INCIA)\nNovel pharmacological approaches to treat auditory dysfunction in neurodevelopmental disorders \n15:15 – Ana Paula Menegolla (Team: Herry\, Magendie)\nDifferential contribution of distinct neuronal populations to danger representations \n15:45 – Coffee break – \n16:15 – Anass El Azraoui (Team: Humeau\, IINS)\nPrefrontal coding for valence during goal-directed behviors \n16:45 – Eduarda Gervini (Team: Leblois / Mallet\, IMN)\nA Python suite to investigate songbird vocal learning and consolidation \n17:15 – Wine and cheese // open to everyone attending the event. From 5pm. \n17:30 – PhD Award announcement \nRegistration\nhttps://framaforms.org/registration-doctoral-research-award-day-june7th-2024-1654157205 \nA poster?\nPhD students who want to present on that day can still send a message to Julia Goncalves (julia.goncalves@u-bordeaux.fr). Anyone is very welcome (limited to 30 posters). \n\nMore details about the call  \nWith the support of the Bordeaux Neurocampus Graduate Program and Casden \n \n  \n
URL:https://www.bordeaux-neurocampus.fr/en/event/doctoral-research-day/
CATEGORIES:For scientists,home-event,Symposium
END:VEVENT
END:VCALENDAR