BEGIN:VCALENDAR
VERSION:2.0
PRODID:-//Bordeaux Neurocampus - ECPv4.9.10//NONSGML v1.0//EN
CALSCALE:GREGORIAN
METHOD:PUBLISH
X-WR-CALNAME:Bordeaux Neurocampus
X-ORIGINAL-URL:https://www.bordeaux-neurocampus.fr/en/
X-WR-CALDESC:Events for Bordeaux Neurocampus
BEGIN:VTIMEZONE
TZID:Europe/Paris
BEGIN:DAYLIGHT
TZOFFSETFROM:+0100
TZOFFSETTO:+0200
TZNAME:CEST
DTSTART:20230326T010000
END:DAYLIGHT
BEGIN:STANDARD
TZOFFSETFROM:+0200
TZOFFSETTO:+0100
TZNAME:CET
DTSTART:20231029T010000
END:STANDARD
END:VTIMEZONE
BEGIN:VEVENT
DTSTART;TZID=Europe/Paris:20230925T180000
DTEND;TZID=Europe/Paris:20230925T193000
DTSTAMP:20260423T111526
CREATED:20230704T122706Z
LAST-MODIFIED:20230914T124620Z
UID:161007-1695664800-1695670200@www.bordeaux-neurocampus.fr
SUMMARY:Conférence : "Notre cerveau\, entre raison et déraison" - Mathias Pessiglione
DESCRIPTION:Lieu : Station Ausone – Librairie Mollat\n8\, rue de la Vieille Tour\n33000 Bordeaux \nRetransmise en direct et en différé sur YouTube\n> https://www.youtube.com/@LibrairieMollatBordeaux \n\nAnimée par\nMichel Thiebault de Schotten\nChercheur CNRS – Institut des Maladies Neurodégénératives (IMN) \nMathias Pessiglione\nDirecteur de Recherche Inserm\nInstitut du Cerveau (ICM)\nHôpital Pitié-Salpêtrière\, Paris \nMathias Pessiglione est l’auteur de Les Vacances de Momo Sapiens (éditions Odile Jacob) \nA propos\nRationnel\, le cerveau d’Homo sapiens ? Il ne manque pas de le faire savoir\, quand il analyse à froid ses décisions. Mais sur le coup\, quand il doit faire un choix\, c’est une autre histoire : le cerveau qui décide ne paraît pas si sage ! Il se laisse conditionner par l’habitude\, envahir par les impulsions\, diriger par les autres… Bref\, il semble moins rationnel dans ses décisions pratiques que dans ses réflexions théoriques. À moins que ce ne soit le contraire ? \nLe cerveau reste un grand incompris. Peut-être\, après tout\, fait-il les bons choix sans qu’on s’en rende compte. Peut-être faut-il admettre ce paradoxe étonnant : le cerveau a ses raisons que la raison ne connaît pas ! \nC’est le paradoxe exposé dans Les Vacances de Momo Sapiens. A chaque début de chapitre\, le personnage est placé dans une situation où il est amené à prendre des décisions. Le principe du livre est d’exposer les biais possibles dans la décision et les explications que peuvent fournir les neurosciences. \n\nPartager l’événement sur Facebook : https://fb.me/e/4wNYhAHoy \nCoorganisé par Bordeaux Neurocampus et la librairie Mollat. \nOrganisée dans le cadre de la conférence internationale “NeuroCompare” avec le soutien de la région Nouvelle-Aquitaine. \n
URL:https://www.bordeaux-neurocampus.fr/en/event/conference-notre-cerveau-entre-raison-et-deraison-mathias-pessiglione/
CATEGORIES:Events for all,home-event
END:VEVENT
END:VCALENDAR