BEGIN:VCALENDAR
VERSION:2.0
PRODID:-//Bordeaux Neurocampus - ECPv4.9.10//NONSGML v1.0//EN
CALSCALE:GREGORIAN
METHOD:PUBLISH
X-WR-CALNAME:Bordeaux Neurocampus
X-ORIGINAL-URL:https://www.bordeaux-neurocampus.fr/en/
X-WR-CALDESC:Events for Bordeaux Neurocampus
BEGIN:VTIMEZONE
TZID:Europe/Paris
BEGIN:DAYLIGHT
TZOFFSETFROM:+0100
TZOFFSETTO:+0200
TZNAME:CEST
DTSTART:20210328T010000
END:DAYLIGHT
BEGIN:STANDARD
TZOFFSETFROM:+0200
TZOFFSETTO:+0100
TZNAME:CET
DTSTART:20211031T010000
END:STANDARD
END:VTIMEZONE
BEGIN:VEVENT
DTSTART;VALUE=DATE:20210715
DTEND;VALUE=DATE:20210718
DTSTAMP:20260421T161506
CREATED:20210625T101520Z
LAST-MODIFIED:20210628T131540Z
UID:136434-1626307200-1626566399@www.bordeaux-neurocampus.fr
SUMMARY:Bordeaux Summer School - ECNP Immuno-NeuroPsychiatry
DESCRIPTION:This interdisciplinary online summer school is open to graduate students\, doctoral and post-doctoral researchers from the fields of psychiatry\, psychology\, biology and medicine. The three-day course focuses on dimensional approaches in psychiatry\, preclinical models and methods to measure immune markers. Lectures on hot topics in immunopsychiatry will be given by internationally renowned scientists from the field. \nImmune processes are major factors for the health of the central nervous system\, as well as for risk or resilience to brain disorders. Exciting scientific insights indicate a highly sensitive and fine-tuned equilibrium of inflammation that modulates our cognitive and social abilities. \nOrganizing committee\n› Lucile Capuron: NutriNeuro\, University of Bordeaux – French National Institute of Agricultural\, Food and Environmental Research (INRAe)\, France \n› Muriel Darnaudery: NutriNeuro\, University of Bordeaux – INRAe\, France \n› Marion Leboyer: Assistance publique – Hôpitaux de Paris\, Fondation Fondamental\, Université Paris-Est Créteil – French National Institute of Health and Medical Research (Inserm)\, France \n\nMore details\nhttps://bss-immunoneuropsychiatry.u-bordeaux.fr/en/ \n
URL:https://www.bordeaux-neurocampus.fr/en/event/bordeaux-summer-school-ecnp-immuno-neuropsychiatry/
CATEGORIES:For scientists,home-event,Trainings
END:VEVENT
END:VCALENDAR